BEGIN:VCALENDAR
VERSION:2.0
PRODID:-//Evangelisch – lutherische Bugenhagen-Kirchengemeinde Nettelnburg - ECPv6.15.20//NONSGML v1.0//EN
CALSCALE:GREGORIAN
METHOD:PUBLISH
X-WR-CALNAME:Evangelisch – lutherische Bugenhagen-Kirchengemeinde Nettelnburg
X-ORIGINAL-URL:https://www.kirche-nettelnburg.de
X-WR-CALDESC:Veranstaltungen für Evangelisch – lutherische Bugenhagen-Kirchengemeinde Nettelnburg
REFRESH-INTERVAL;VALUE=DURATION:PT1H
X-Robots-Tag:noindex
X-PUBLISHED-TTL:PT1H
BEGIN:VTIMEZONE
TZID:Europe/Berlin
BEGIN:DAYLIGHT
TZOFFSETFROM:+0100
TZOFFSETTO:+0200
TZNAME:CEST
DTSTART:20230326T010000
END:DAYLIGHT
BEGIN:STANDARD
TZOFFSETFROM:+0200
TZOFFSETTO:+0100
TZNAME:CET
DTSTART:20231029T010000
END:STANDARD
BEGIN:DAYLIGHT
TZOFFSETFROM:+0100
TZOFFSETTO:+0200
TZNAME:CEST
DTSTART:20240331T010000
END:DAYLIGHT
BEGIN:STANDARD
TZOFFSETFROM:+0200
TZOFFSETTO:+0100
TZNAME:CET
DTSTART:20241027T010000
END:STANDARD
BEGIN:DAYLIGHT
TZOFFSETFROM:+0100
TZOFFSETTO:+0200
TZNAME:CEST
DTSTART:20250330T010000
END:DAYLIGHT
BEGIN:STANDARD
TZOFFSETFROM:+0200
TZOFFSETTO:+0100
TZNAME:CET
DTSTART:20251026T010000
END:STANDARD
END:VTIMEZONE
BEGIN:VEVENT
DTSTART;TZID=Europe/Berlin:20241201T100000
DTEND;TZID=Europe/Berlin:20241201T100000
DTSTAMP:20260421T200327
CREATED:20241020T104526Z
LAST-MODIFIED:20241020T104647Z
UID:5643-1733047200-1733047200@www.kirche-nettelnburg.de
SUMMARY:Gottesdienst - Kirche Kunterbunt
DESCRIPTION:Kirche Kunterbunt – Gottesdienst für die ganze Familie.  \n\n\n\nGemeindepädagoge D. Perner und Team
URL:https://www.kirche-nettelnburg.de/event/gottesdienst-kirche-kunterbunt/
CATEGORIES:Gottesdienste,Kinder Veranstaltung
ATTACH;FMTTYPE=image/png:https://www.kirche-nettelnburg.de/wp-content/uploads/2024/02/Kirche-Kunterbunt-Logo.png
END:VEVENT
BEGIN:VEVENT
DTSTART;TZID=Europe/Berlin:20241205T193000
DTEND;TZID=Europe/Berlin:20241205T230000
DTSTAMP:20260421T200327
CREATED:20240605T173401Z
LAST-MODIFIED:20241203T190708Z
UID:5377-1733427000-1733439600@www.kirche-nettelnburg.de
SUMMARY:After Work
DESCRIPTION:Das beliebte After Work Event in Bugenhagen mit Spielen und Getränken. Bring a bottle…
URL:https://www.kirche-nettelnburg.de/event/after-work-2/
ATTACH;FMTTYPE=image/png:https://www.kirche-nettelnburg.de/wp-content/uploads/2024/05/afterwork.png
END:VEVENT
BEGIN:VEVENT
DTSTART;TZID=Europe/Berlin:20241207T140000
DTEND;TZID=Europe/Berlin:20241207T180000
DTSTAMP:20260421T200327
CREATED:20241204T215757Z
LAST-MODIFIED:20241204T215759Z
UID:5767-1733580000-1733594400@www.kirche-nettelnburg.de
SUMMARY:Weihnachtsmarkt
DESCRIPTION:ARGE Nettelnburg e.V.lädt ein zum:  \n\n\n\nWeihnachtsmarkt am Samstag\, 07.12.2024 14:00 18:00 Uhr \n\n\n\nBugenhagenkirche Nettelnburg \n\n\n\n\nTannenbaumverkauf\n\n\n\nGlühwein \n\n\n\nKaffee & Kuchen \n\n\n\nAdventssingen\n\n\n\nKunsthandwerk \n\n\n\nWaffeln \n\n\n\nStockbrot \n\n\n\nLagerfeuer \n\n\n\nGrillwurst\n\n\n\n\nUm Kuchenspenden wird herzlich gebeten! Samstag ab 12:00 Uhr abgeben Als Dankeschön verlosen wir 2 Tannenbäume unter allen Spender:innen
URL:https://www.kirche-nettelnburg.de/event/weihnachtsmarkt-3/
ATTACH;FMTTYPE=image/png:https://www.kirche-nettelnburg.de/wp-content/uploads/2022/10/Weihnachtsmarkt.png
END:VEVENT
BEGIN:VEVENT
DTSTART;TZID=Europe/Berlin:20241208T100000
DTEND;TZID=Europe/Berlin:20241208T100000
DTSTAMP:20260421T200327
CREATED:20241113T110421Z
LAST-MODIFIED:20241113T110423Z
UID:5695-1733652000-1733652000@www.kirche-nettelnburg.de
SUMMARY:Gottesdienst mit Posaunenchor
DESCRIPTION:Gottesdienst am 2. Advent \n\n\n\nmit Detlef Pieper mit Posaunenchor
URL:https://www.kirche-nettelnburg.de/event/gottesdienst-mit-posaunenchor-3/
CATEGORIES:Gottesdienste,Musik Veranstaltung
ATTACH;FMTTYPE=image/jpeg:https://www.kirche-nettelnburg.de/wp-content/uploads/2021/10/Gottesdienst.jpg
END:VEVENT
BEGIN:VEVENT
DTSTART;TZID=Europe/Berlin:20241210T173000
DTEND;TZID=Europe/Berlin:20241210T173000
DTSTAMP:20260421T200327
CREATED:20240714T162510Z
LAST-MODIFIED:20241209T185616Z
UID:5476-1733851800-1733851800@www.kirche-nettelnburg.de
SUMMARY:Nudelkirche
DESCRIPTION:Liebe Familien es ist wieder Nudelkirche im Gemeindesaal der Bugenhagenkirche!Für Kleine und große Begleitpersonen. Mit Abendessen. Termine\, jeweils 17:30 UhrIch freue mich auf Euch. \n\n\n\nGwen Bryde\, Pastorin
URL:https://www.kirche-nettelnburg.de/event/nudelkirche-6/
CATEGORIES:Gottesdienste
ATTACH;FMTTYPE=image/png:https://www.kirche-nettelnburg.de/wp-content/uploads/2023/09/Nudelkirche.png
END:VEVENT
BEGIN:VEVENT
DTSTART;TZID=Europe/Berlin:20241212T160000
DTEND;TZID=Europe/Berlin:20241212T180000
DTSTAMP:20260421T200327
CREATED:20231002T173022Z
LAST-MODIFIED:20241204T125045Z
UID:4647-1734019200-1734026400@www.kirche-nettelnburg.de
SUMMARY:Kinderkino & Familiencafé
DESCRIPTION:Liebe Familien!Wieder da: Kinderkino mit ElterncaféHerzliche Einladung von November bis Februar in das Gemeindehaus zum Kinderkino mit Elterncafé. Da das Kinderkino im letzten Jahr so gut angenommen wurde wollen wir es dieses Jahr wieder starten lassen. In der kommenden Filmsaison wird es wieder einen Film\, Popcorn und Kaffee geben.Sollten Sie Filmempfehlungen haben\, dann melden Sie sich damit gerne bei uns. \n\n\n\n \n\n\n\nAber: nur für begrenzte Zeit! Sobald es draußen wieder hell und warm wird\, schalten wir den Fernseher ab. Kommt vorbei und schaut es euch an. \n\n\n\nLiebe GrüßeDaniel Perner\, Gemeindepädagoge
URL:https://www.kirche-nettelnburg.de/event/kinderkino-familiencafe/
CATEGORIES:Kinder Veranstaltung
ATTACH;FMTTYPE=image/jpeg:https://www.kirche-nettelnburg.de/wp-content/uploads/2023/10/kinderkino24.jpg
END:VEVENT
BEGIN:VEVENT
DTSTART;TZID=Europe/Berlin:20241215T150000
DTEND;TZID=Europe/Berlin:20241215T150000
DTSTAMP:20260421T200327
CREATED:20241113T110603Z
LAST-MODIFIED:20241113T110605Z
UID:5697-1734274800-1734274800@www.kirche-nettelnburg.de
SUMMARY:Gottesdienst am 3. Advent
DESCRIPTION:Gottesdienst am 3. Advent \n\n\n\nmit Pastorin Gwen Bryde
URL:https://www.kirche-nettelnburg.de/event/gottesdienst-am-3-advent/
CATEGORIES:Gottesdienste
ATTACH;FMTTYPE=image/jpeg:https://www.kirche-nettelnburg.de/wp-content/uploads/2021/10/Gottesdienst.jpg
END:VEVENT
BEGIN:VEVENT
DTSTART;TZID=Europe/Berlin:20241217T170000
DTEND;TZID=Europe/Berlin:20241217T170000
DTSTAMP:20260421T200327
CREATED:20241113T111131Z
LAST-MODIFIED:20241217T184051Z
UID:5703-1734454800-1734454800@www.kirche-nettelnburg.de
SUMMARY:Jahresabend-Andacht
DESCRIPTION:Jahresabend-Andacht mit Martin Reesch
URL:https://www.kirche-nettelnburg.de/event/jahresschluss-gottesdienst/
CATEGORIES:Gottesdienste
ATTACH;FMTTYPE=image/jpeg:https://www.kirche-nettelnburg.de/wp-content/uploads/2021/10/Gottesdienst.jpg
END:VEVENT
BEGIN:VEVENT
DTSTART;TZID=Europe/Berlin:20241222T100000
DTEND;TZID=Europe/Berlin:20241222T100000
DTSTAMP:20260421T200327
CREATED:20241113T110728Z
LAST-MODIFIED:20241219T151358Z
UID:5699-1734861600-1734861600@www.kirche-nettelnburg.de
SUMMARY:Gottesdienst am 4. Advent
DESCRIPTION:Gottesdienst am 4. Advent mit Abendmahl \n\n\n\nmit Pastor Stefan Deutschmann
URL:https://www.kirche-nettelnburg.de/event/gottesdienst-am-4-advent/
CATEGORIES:Gottesdienste
ATTACH;FMTTYPE=image/jpeg:https://www.kirche-nettelnburg.de/wp-content/uploads/2021/10/Gottesdienst-mit-Abendmahl.jpg
END:VEVENT
BEGIN:VEVENT
DTSTART;TZID=Europe/Berlin:20241223T190000
DTEND;TZID=Europe/Berlin:20241223T190000
DTSTAMP:20260421T200327
CREATED:20241029T154854Z
LAST-MODIFIED:20241029T154904Z
UID:5664-1734980400-1734980400@www.kirche-nettelnburg.de
SUMMARY:Sing and Pray
DESCRIPTION:Mit viel Zeit zum Singen\, aber auch Momenten des Innehaltens machen wir uns gemeinsam auf den Weg vom Advent in die Weihnachtszeit… \n\n\n\n…Sing and Pray \n\n\n\n– wie jedes Jahr\, aber dieses Jahr wird irgendwie anders! \n\n\n\nChristina und Heiko
URL:https://www.kirche-nettelnburg.de/event/sing-and-pray-3/
CATEGORIES:Gottesdienste,Musik Veranstaltung
ATTACH;FMTTYPE=image/jpeg:https://www.kirche-nettelnburg.de/wp-content/uploads/2023/09/Musik-Note-Sing-and-Pray.jpg
END:VEVENT
BEGIN:VEVENT
DTSTART;TZID=Europe/Berlin:20241224T140000
DTEND;TZID=Europe/Berlin:20241224T140000
DTSTAMP:20260421T200327
CREATED:20241113T104715Z
LAST-MODIFIED:20241120T211101Z
UID:5689-1735048800-1735048800@www.kirche-nettelnburg.de
SUMMARY:Familien Christvesper mit Krippenspiel
DESCRIPTION:Familien Christvesper mit Krippenspiel vom Kinderchor \n\n\n\nmit Gemeindepädagoge Daniel Perner
URL:https://www.kirche-nettelnburg.de/event/familien-christvesper-mit-krippenspiel/
CATEGORIES:Gottesdienste,Kinder Veranstaltung
ATTACH;FMTTYPE=image/jpeg:https://www.kirche-nettelnburg.de/wp-content/uploads/2021/10/Gottesdienst-mit-KiGo.jpg
END:VEVENT
BEGIN:VEVENT
DTSTART;TZID=Europe/Berlin:20241224T153000
DTEND;TZID=Europe/Berlin:20241224T153000
DTSTAMP:20260421T200327
CREATED:20241113T105640Z
LAST-MODIFIED:20241217T183922Z
UID:5691-1735054200-1735054200@www.kirche-nettelnburg.de
SUMMARY:Familien Christvesper mit Krippenspiel
DESCRIPTION:Familien Christvesper mit Krippenspiel \n\n\n\nmit Pastorin Gwen Bryde
URL:https://www.kirche-nettelnburg.de/event/familien-christvesper-mit-erwachsenen-krippenspiel/
CATEGORIES:Gottesdienste,Jugend Veranstaltung,Kinder Veranstaltung
ATTACH;FMTTYPE=image/jpeg:https://www.kirche-nettelnburg.de/wp-content/uploads/2021/10/Gottesdienst.jpg
END:VEVENT
BEGIN:VEVENT
DTSTART;TZID=Europe/Berlin:20241224T170000
DTEND;TZID=Europe/Berlin:20241224T170000
DTSTAMP:20260421T200327
CREATED:20241113T105813Z
LAST-MODIFIED:20241120T211224Z
UID:5693-1735059600-1735059600@www.kirche-nettelnburg.de
SUMMARY:Christvesper mit Chor
DESCRIPTION:Christvesper mit Chor \n\n\n\nmit Pastorin Gwen Bryde
URL:https://www.kirche-nettelnburg.de/event/christvesper-mit-chor/
CATEGORIES:Gottesdienste
ATTACH;FMTTYPE=image/jpeg:https://www.kirche-nettelnburg.de/wp-content/uploads/2021/10/Gottesdienst.jpg
END:VEVENT
BEGIN:VEVENT
DTSTART;TZID=Europe/Berlin:20241224T223000
DTEND;TZID=Europe/Berlin:20241224T223000
DTSTAMP:20260421T200327
CREATED:20241215T213339Z
LAST-MODIFIED:20241215T213351Z
UID:5809-1735079400-1735079400@www.kirche-nettelnburg.de
SUMMARY:Offene Kirche zur stillen Einkehr
DESCRIPTION:ab 22:30 Uhr. Offene Kirche zur stillen Einkehr (jeder kann kommenund so lange bleiben\, wie er möchte)
URL:https://www.kirche-nettelnburg.de/event/offene-kirche-zur-stillen-einkehr/
CATEGORIES:Gottesdienste
ATTACH;FMTTYPE=image/jpeg:https://www.kirche-nettelnburg.de/wp-content/uploads/2024/12/DSC_0200-Uwe-Foto--scaled.jpeg
END:VEVENT
BEGIN:VEVENT
DTSTART;TZID=Europe/Berlin:20241225T100000
DTEND;TZID=Europe/Berlin:20241225T100000
DTSTAMP:20260421T200327
CREATED:20241113T111016Z
LAST-MODIFIED:20241113T111017Z
UID:5701-1735120800-1735120800@www.kirche-nettelnburg.de
SUMMARY:Gottesdienst am 1. Weihnachtstag
DESCRIPTION:Gottesdienst am 1. Weihnachtstag
URL:https://www.kirche-nettelnburg.de/event/gottesdienst-am-1-weihnachtstag/
CATEGORIES:Gottesdienste
ATTACH;FMTTYPE=image/jpeg:https://www.kirche-nettelnburg.de/wp-content/uploads/2021/10/Gottesdienst.jpg
END:VEVENT
BEGIN:VEVENT
DTSTART;TZID=Europe/Berlin:20241229T100000
DTEND;TZID=Europe/Berlin:20241229T100000
DTSTAMP:20260421T200327
CREATED:20241215T210514Z
LAST-MODIFIED:20241215T210516Z
UID:5792-1735466400-1735466400@www.kirche-nettelnburg.de
SUMMARY:Gemeinsames Gebet
DESCRIPTION:Wir laden ein zum gemeinsamen Gebet: \n\n\n\nAm 29.Dezember um 10 Uhr in der Kirche. \n\n\n\n\n\n\n\nWir werden miteinander singen\, loben\, danken\, bitten und über einen Bibeltext sprechen.  \n\n\n\nWir freuen uns auf Dich/auf Sie! Petra Klampe und Sylvia Koeppe
URL:https://www.kirche-nettelnburg.de/event/gemeinsames-gebet-5/
ATTACH;FMTTYPE=image/jpeg:https://www.kirche-nettelnburg.de/wp-content/uploads/2024/12/DSC_0200-Uwe-Foto--scaled.jpeg
END:VEVENT
BEGIN:VEVENT
DTSTART;TZID=Europe/Berlin:20241231T170000
DTEND;TZID=Europe/Berlin:20241231T170000
DTSTAMP:20260421T200327
CREATED:20241217T184311Z
LAST-MODIFIED:20241230T101615Z
UID:5814-1735664400-1735664400@www.kirche-nettelnburg.de
SUMMARY:Altjahresabend-Andacht
DESCRIPTION:Jahresabend-Andacht mit Martin Reesch. \n\n\n\nThematisch wird es darum gehen\, wofür wir am Ende des Jahres Gott danken möchten und woraus wir Hoffnung und Zuversicht für das Neue Jahr 2025 schöpfen können. Musikalisch werden wir von Michaela Ahlers am Klavier und an der Orgel begleitet.
URL:https://www.kirche-nettelnburg.de/event/altjahresabend2024/
CATEGORIES:Gottesdienste
ATTACH;FMTTYPE=image/png:https://www.kirche-nettelnburg.de/wp-content/uploads/2022/03/gebete-pandemie.png
END:VEVENT
END:VCALENDAR