BEGIN:VCALENDAR
VERSION:2.0
PRODID:-//Evangelisch – lutherische Bugenhagen-Kirchengemeinde Nettelnburg - ECPv6.15.20//NONSGML v1.0//EN
CALSCALE:GREGORIAN
METHOD:PUBLISH
X-WR-CALNAME:Evangelisch – lutherische Bugenhagen-Kirchengemeinde Nettelnburg
X-ORIGINAL-URL:https://www.kirche-nettelnburg.de
X-WR-CALDESC:Veranstaltungen für Evangelisch – lutherische Bugenhagen-Kirchengemeinde Nettelnburg
REFRESH-INTERVAL;VALUE=DURATION:PT1H
X-Robots-Tag:noindex
X-PUBLISHED-TTL:PT1H
BEGIN:VTIMEZONE
TZID:Europe/Berlin
BEGIN:DAYLIGHT
TZOFFSETFROM:+0100
TZOFFSETTO:+0200
TZNAME:CEST
DTSTART:20240331T010000
END:DAYLIGHT
BEGIN:STANDARD
TZOFFSETFROM:+0200
TZOFFSETTO:+0100
TZNAME:CET
DTSTART:20241027T010000
END:STANDARD
BEGIN:DAYLIGHT
TZOFFSETFROM:+0100
TZOFFSETTO:+0200
TZNAME:CEST
DTSTART:20250330T010000
END:DAYLIGHT
BEGIN:STANDARD
TZOFFSETFROM:+0200
TZOFFSETTO:+0100
TZNAME:CET
DTSTART:20251026T010000
END:STANDARD
BEGIN:DAYLIGHT
TZOFFSETFROM:+0100
TZOFFSETTO:+0200
TZNAME:CEST
DTSTART:20260329T010000
END:DAYLIGHT
BEGIN:STANDARD
TZOFFSETFROM:+0200
TZOFFSETTO:+0100
TZNAME:CET
DTSTART:20261025T010000
END:STANDARD
END:VTIMEZONE
BEGIN:VEVENT
DTSTART;TZID=Europe/Berlin:20250101T160000
DTEND;TZID=Europe/Berlin:20250101T160000
DTSTAMP:20260421T183948
CREATED:20241224T123232Z
LAST-MODIFIED:20241224T123233Z
UID:5844-1735747200-1735747200@www.kirche-nettelnburg.de
SUMMARY:Kirchspiel-Gottesdienst in Petri und Pauli
DESCRIPTION:Kirchspiel-Gottesdienst in Petri und Pauli. \n\n\n\nKein Gottesdienst in Bugenhagen
URL:https://www.kirche-nettelnburg.de/event/kirchspiel-gottesdienst-in-petri-und-pauli-2/
LOCATION:Petri und Pauli\, Johann-Adolf-Hasse-Platz\, Hamburg\, 21029
CATEGORIES:Gottesdienste
ATTACH;FMTTYPE=image/png:https://www.kirche-nettelnburg.de/wp-content/uploads/2021/05/Kirchspiel.png
END:VEVENT
BEGIN:VEVENT
DTSTART;TZID=Europe/Berlin:20250105T100000
DTEND;TZID=Europe/Berlin:20250105T100000
DTSTAMP:20260421T183948
CREATED:20241224T123337Z
LAST-MODIFIED:20241224T123402Z
UID:5846-1736071200-1736071200@www.kirche-nettelnburg.de
SUMMARY:Gottesdienst
DESCRIPTION:Gottesdienst \n\n\n\nPastorin Gwen Bryde
URL:https://www.kirche-nettelnburg.de/event/gottesdienst-6/
CATEGORIES:Gottesdienste
ATTACH;FMTTYPE=image/jpeg:https://www.kirche-nettelnburg.de/wp-content/uploads/2021/10/Gottesdienst.jpg
END:VEVENT
BEGIN:VEVENT
DTSTART;TZID=Europe/Berlin:20250106T150000
DTEND;TZID=Europe/Berlin:20250106T150000
DTSTAMP:20260421T183948
CREATED:20241215T211753Z
LAST-MODIFIED:20241215T211754Z
UID:5796-1736175600-1736175600@www.kirche-nettelnburg.de
SUMMARY:Seniorenkreis „Feierabend“: Die Heiligen Drei Könige
DESCRIPTION:Bibel\, Volksfrömmigkeit und Tradition. Wer waren sie wirklich? Was wissen wir über sie? \n\n\n\nAlle 14 Tage am Montagnachmittag um 15 Uhr treffen wir uns im Gemeindesaal der Bugenhagengemeinde. Nach einer kurzen Andacht mit Wochenspruch und Lied ist bei Kaffee und Kuchen Gelegenheit zum Klönen und Austausch von Neuigkeiten. Anschliessend beschäftigen wir uns mit Themen\, die für Senioren interessant sind. Das sind z. B. Fragen der Lebensgestaltung im Alter\, ein Blick auf interessante Persönlichkeiten oder auch Themen des Glaubens. Unsere Nachmittage enden dann um 17 Uhr. \n\n\n\nWir sind z. Z. etwa 25 Frauen und einzelne Männer zwischen 65 und 95 Jahren und freuen uns auch über neue Gesichter. Kommen Sie gerne vorbei! \n\n\n\nDas Team des Feierabendkreises: Monika Burmeister\, Carola Jürs
URL:https://www.kirche-nettelnburg.de/event/seniorenkreis-feierabend-die-heiligen-drei-koenige/
CATEGORIES:Senioren Veranstaltung
ATTACH;FMTTYPE=image/jpeg:https://www.kirche-nettelnburg.de/wp-content/uploads/2022/06/Seniorenkreis-„Feierabend-scaled.jpg
END:VEVENT
BEGIN:VEVENT
DTSTART;TZID=Europe/Berlin:20250110T190000
DTEND;TZID=Europe/Berlin:20250110T190000
DTSTAMP:20260421T183948
CREATED:20241106T211933Z
LAST-MODIFIED:20250110T124830Z
UID:5672-1736535600-1736535600@www.kirche-nettelnburg.de
SUMMARY:Lobpreis
DESCRIPTION:Wir feiern einen Lobpreisabend. Miteinander singen\, zu beten und Gedanken zu teilen. Grundsätzlich immer am ersten Freitag im Monat\, aber manchmal verschieben wir es auch. \n\n\n\nEs ist Freitag\, die Woche war anstrengend\, voll\, stressig. Das Wochenende steht vor der Tür und auch da steht einiges an. Ich bin erschöpft\, ich brauche Ruhe\, eine Tankstelle\, wo ich gestärkt werde. Und dann fällt mir ein\, es ist ja der erste Freitag im Monat – Lobpreisabend!  \n\n\n\nDer Ort\, die Zeit\, die Musik\, wo ich auftanken kann. In den Liedern finde ich Antworten\, Zuspruch\, Trost\, Zuversicht und Kraft\, und immer wieder die Zusage\, ich bin nicht alleine. Gott sieht meine Sorgen\, meinen Stress\, meine Erschöpfung\, und er schenkt mir in dieser Zeit\, in dieser Runde eine Ruheoase. Ich komme zur Ruhe\, mein Herzschlag wird langsamer\, die Gedanken hören auf zu kreisen\, ich kann loslassen. Und er lässt mich erkennen\, wie gut ich es doch habe\, wie dankbar ich eigentlich sein kann. \n\n\n\nSuchst du auch so einen Ort? Dann komm doch mal vorbei und teste aus\, ob es bei dir auch so gut wirkt. Wir treffen uns jeden ersten Freitag im Monat um 19 Uhr für ca. eine Stunde in der Kirche. Gemeinsam singen wir in einer ruhigen\, schönen Atmosphäre viele Lobpreislieder\, und ein kleiner geistiger Input rundet den Lobpreisabend ab. Im Anschluss gibt es immer noch etwas Leckeres zu essen und zu trinken\, sodass der Abend bei einem geselligen Schnack enden kann. Danach gehe ich immer beflügelt und befreit nach Haus\, und die nächsten Herausforderungen können kommen. Das alles in dem Wissen\, dass ich behütet\, getragen und frei bin\, so dass meine Seele singen kann. \n\n\n\nHerzliche Einladung! \n\n\n\nKerstin Heide für das Lobpreisteam
URL:https://www.kirche-nettelnburg.de/event/lobpreis-19/
CATEGORIES:Gottesdienste
ATTACH;FMTTYPE=image/png:https://www.kirche-nettelnburg.de/wp-content/uploads/2022/10/Lobpreis.png
END:VEVENT
BEGIN:VEVENT
DTSTART;TZID=Europe/Berlin:20250112T110000
DTEND;TZID=Europe/Berlin:20250112T110000
DTSTAMP:20260421T183948
CREATED:20241224T123541Z
LAST-MODIFIED:20241224T123604Z
UID:5848-1736679600-1736679600@www.kirche-nettelnburg.de
SUMMARY:Start-Gottesdienst der Allianz Gebets Woche
DESCRIPTION:Start-Gottesdienst der Allianz Gebets Woche in der Auferstehungskirche Lohbrügge. Sihe auch Gebetswoche 2025 – „Gemeinsam für Bergedorf“ \n\n\n\nKein Gottesdienst in Bugenhagen
URL:https://www.kirche-nettelnburg.de/event/start-gottesdienst-der-allianz-gebets-woche/
LOCATION:Auferstehungskirche\, Kurt-Adams-Platz 9\, Hamburg\, 21031\, Deutschland
CATEGORIES:Gottesdienste
ATTACH;FMTTYPE=image/png:https://www.kirche-nettelnburg.de/wp-content/uploads/2021/12/Evangelische-Allianz.png
END:VEVENT
BEGIN:VEVENT
DTSTART;TZID=Europe/Berlin:20250113T193000
DTEND;TZID=Europe/Berlin:20250113T193000
DTSTAMP:20260421T183948
CREATED:20241202T174314Z
LAST-MODIFIED:20241204T220529Z
UID:5743-1736796600-1736796600@www.kirche-nettelnburg.de
SUMMARY:Was glauben wir\, wenn wir glauben? (Reinbek)
DESCRIPTION:Was glauben wir\, wenn wir glauben? Das ökumenische Glaubensbekenntnis von Nicäa (325)  \n\n\n\nReferent: Helmut Röhrbein-Viehoff\, Pastoralreferent i. R. \n\n\n\nDreiteilige\, aufeinander aufbauenden Reihe \n\n\n\n13. Januar\, 27. Januar und 10. Februar 2025 jeweils 19.30 – 21.00 Uhr \n\n\n\nGemeindehaus Herz Jesu | Niels Stensen Weg 3\, Reinbek \n\n\n\nDas Gemeindeteam Reinbek und die Gruppe „Miteinander in Kontakt kommen“ laden ein! \n\n\n\nWeitere Info im Flyer:  \n\n\n\nFlyer Theologische Gesprächsreihe 2025Herunterladen
URL:https://www.kirche-nettelnburg.de/event/was-glauben-wir-wenn-wir-glauben-2/
LOCATION:Gemeinde Herz Jesu –  Reinbek\, Niels Stensen Weg 3\, Reinbek\, 21465
ATTACH;FMTTYPE=image/png:https://www.kirche-nettelnburg.de/wp-content/uploads/2024/12/2024-12-02_182526.png
END:VEVENT
BEGIN:VEVENT
DTSTART;TZID=Europe/Berlin:20250116T160000
DTEND;TZID=Europe/Berlin:20250116T180000
DTSTAMP:20260421T183948
CREATED:20241215T212437Z
LAST-MODIFIED:20241215T212451Z
UID:5801-1737043200-1737050400@www.kirche-nettelnburg.de
SUMMARY:Kinderkino & Familiencafé
DESCRIPTION:Liebe Familien! \n\n\n\nHerzliche Einladung zum Kinderkino mit parallelem Eltern-Café. Beide Veranstaltungen sind ein Highlight für sich. \n\n\n\nWährend im Gemeindesaal eine riesige Leinwand und dicker Sound auf die Kinder warten\, erwarten euch Eltern im Café Heißgetränke wie Cappuccino oder Tee.
URL:https://www.kirche-nettelnburg.de/event/kinderkino-familiencafe-5/
CATEGORIES:Kinder Veranstaltung
ATTACH;FMTTYPE=image/png:https://www.kirche-nettelnburg.de/wp-content/uploads/2024/12/Kinderkino.png
END:VEVENT
BEGIN:VEVENT
DTSTART;TZID=Europe/Berlin:20250118T140000
DTEND;TZID=Europe/Berlin:20250118T170000
DTSTAMP:20260421T183948
CREATED:20241130T204309Z
LAST-MODIFIED:20241203T191808Z
UID:5719-1737208800-1737219600@www.kirche-nettelnburg.de
SUMMARY:Bibelentdeckertag (5-11 Jahre)
DESCRIPTION:Für Kinder von 5-11 Jahren. \n\n\n\nWo? In der Kirche\, im Gemeindehaus und auf dem Außengelände. \n\n\n\nWas? Das bunte Programm besteht z.B. aus Spielen\, Playmobil\, Singen\, Theater\, Basteln und Rätseln. \n\n\n\nBringe bitte mit: \n\n\n\n\nEine große Tasche (für Preise und Gebasteltes)\n\n\n\nHausschuhe (helfen uns bei Schmuddelwetter)\n\n\n\nEine Trinkflasche und einen kleinen Snack.\n\n\n\n\nBei Fragen sprechen Sie mich gerne an! (Mail)  \n\n\n\n\n\n\nAnmeldung Bibelentdeckertag 18.1.25\nAnmeldung Bibelentdeckertag 18.1.25\n\n\n\n\n\n\n\n	Vorname des Kindes\n		*\n	\n	\n	Vorname\n	\n\n\n	Nachname des Kindes\n		*\n	\n	\n	Nachname\n	\n\n\n	Geburtsdatum des Kindes\n		\n	\n	\n	\n	\n\n\n	Besondere Krankheiten\, Allergien\, Unverträglichkeiten oder Vegetarier\n		*\n	\n	\n	\n	\n\n\n	Während des Tages sind wir zu erreichen unter:\n		\n	\n	\n	\n	\n\n\n	Hiermit gebe ich die Erlaubnis\, dass Fotos vom Bibelentdeckertag  mit meinem Kind (ohne Namen) -schutzwürdige Interessen werden beachtet-im Gemeindehaus ausgehängt werden\n		\n	\n						\n			 Ja\n					\n			 Nein\n\n	\n	\n\n\n	Mein Kind geht alleine nach Hause.\n		\n	\n	\n	\n	\n\n\n	Ich möchte die Infomail über Angebote für Kinder und Familien von der Bugenhagenkirchengemeinde Nettelnburg erhalten.\n		\n	\n						\n			 Ja\n					\n			 Nein\n\n	\n	\n\n\n	Wenn Ja\, dann bitte die Email-Adresse eintragen.\n		\n	\n	\n	\n	\n\n\n	\n\nSenden\n\n\n\n	\n			\n			\n				Falls Du menschlich bist\, lasse dieses Feld leer.			\n			\n		\n		\n\n\n\n\n\n\n\n\n\nEs freut sich auf euch eure Christina Mannemann und das Bibelentdeckertagteam
URL:https://www.kirche-nettelnburg.de/event/bet202501/
CATEGORIES:Kinder Veranstaltung
ATTACH;FMTTYPE=image/png:https://www.kirche-nettelnburg.de/wp-content/uploads/2024/11/Homepage-18.01.25.png
END:VEVENT
BEGIN:VEVENT
DTSTART;TZID=Europe/Berlin:20250119T100000
DTEND;TZID=Europe/Berlin:20250119T100000
DTSTAMP:20260421T183948
CREATED:20241224T123727Z
LAST-MODIFIED:20241224T123729Z
UID:5850-1737280800-1737280800@www.kirche-nettelnburg.de
SUMMARY:Gottesdienst mit Abendmahl
DESCRIPTION:Gottesdienst mit Abendmahl \n\n\n\nPastorin Gwen Bryde
URL:https://www.kirche-nettelnburg.de/event/gottesdienst-mit-abendmahl-14/
CATEGORIES:Gottesdienste
ATTACH;FMTTYPE=image/jpeg:https://www.kirche-nettelnburg.de/wp-content/uploads/2021/10/Gottesdienst-mit-Abendmahl.jpg
END:VEVENT
BEGIN:VEVENT
DTSTART;TZID=Europe/Berlin:20250120T150000
DTEND;TZID=Europe/Berlin:20250120T150000
DTSTAMP:20260421T183948
CREATED:20241215T211919Z
LAST-MODIFIED:20241215T211952Z
UID:5798-1737385200-1737385200@www.kirche-nettelnburg.de
SUMMARY:Seniorenkreis „Feierabend“: Prüft alles und behaltet das Gute!
DESCRIPTION:So lautet die Jahreslosung für das neue Jahr 2025. Eine Ermutigung zum sorgfältigen Umgang mit Informationen in unserem Alltag.So lautet die Jahreslosung für das neue Jahr 2025. Eine Ermutigung zum sorgfältigen Umgang mit Informationen in unserem Alltag. \n\n\n\nAlle 14 Tage am Montagnachmittag um 15 Uhr treffen wir uns im Gemeindesaal der Bugenhagengemeinde. Nach einer kurzen Andacht mit Wochenspruch und Lied ist bei Kaffee und Kuchen Gelegenheit zum Klönen und Austausch von Neuigkeiten. Anschliessend beschäftigen wir uns mit Themen\, die für Senioren interessant sind. Das sind z. B. Fragen der Lebensgestaltung im Alter\, ein Blick auf interessante Persönlichkeiten oder auch Themen des Glaubens. Unsere Nachmittage enden dann um 17 Uhr. \n\n\n\nWir sind z. Z. etwa 25 Frauen und einzelne Männer zwischen 65 und 95 Jahren und freuen uns auch über neue Gesichter. Kommen Sie gerne vorbei! \n\n\n\nDas Team des Feierabendkreises: Monika Burmeister\, Carola Jürs
URL:https://www.kirche-nettelnburg.de/event/seniorenkreis-feierabend-prueft-alles-und-behaltet-das-gute/
CATEGORIES:Senioren Veranstaltung
ATTACH;FMTTYPE=image/jpeg:https://www.kirche-nettelnburg.de/wp-content/uploads/2022/06/Seniorenkreis-„Feierabend-scaled.jpg
END:VEVENT
BEGIN:VEVENT
DTSTART;TZID=Europe/Berlin:20250126T100000
DTEND;TZID=Europe/Berlin:20250126T100000
DTSTAMP:20260421T183948
CREATED:20241224T123855Z
LAST-MODIFIED:20241224T123857Z
UID:5852-1737885600-1737885600@www.kirche-nettelnburg.de
SUMMARY:Gottesdienst
DESCRIPTION:Gemeindepädagoge Daniel Perner
URL:https://www.kirche-nettelnburg.de/event/gottesdienst-7/
CATEGORIES:Gottesdienste
ATTACH;FMTTYPE=image/jpeg:https://www.kirche-nettelnburg.de/wp-content/uploads/2021/10/Gottesdienst.jpg
END:VEVENT
BEGIN:VEVENT
DTSTART;TZID=Europe/Berlin:20250127T193000
DTEND;TZID=Europe/Berlin:20250127T193000
DTSTAMP:20260421T183948
CREATED:20241202T172413Z
LAST-MODIFIED:20241204T220553Z
UID:5735-1738006200-1738006200@www.kirche-nettelnburg.de
SUMMARY:Was glauben wir\, wenn wir glauben? (Reinbek)
DESCRIPTION:Was glauben wir\, wenn wir glauben? Das ökumenische Glaubensbekenntnis von Nicäa (325)  \n\n\n\nReferent: Helmut Röhrbein-Viehoff\, Pastoralreferent i. R. \n\n\n\nDreiteilige\, aufeinander aufbauenden Reihe \n\n\n\n13. Januar\, 27. Januar und 10. Februar 2025 jeweils 19.30 – 21.00 Uhr \n\n\n\nGemeindehaus Herz Jesu | Niels Stensen Weg 3\, Reinbek \n\n\n\nDas Gemeindeteam Reinbek und die Gruppe „Miteinander in Kontakt kommen“ laden ein! \n\n\n\nWeitere Info im Flyer:  \n\n\n\nFlyer Theologische Gesprächsreihe 2025Herunterladen
URL:https://www.kirche-nettelnburg.de/event/was-glauben-wir-wenn-wir-glauben/
LOCATION:Gemeinde Herz Jesu –  Reinbek\, Niels Stensen Weg 3\, Reinbek\, 21465
ATTACH;FMTTYPE=image/png:https://www.kirche-nettelnburg.de/wp-content/uploads/2024/12/2024-12-02_182526.png
END:VEVENT
BEGIN:VEVENT
DTSTART;TZID=Europe/Berlin:20250128T190000
DTEND;TZID=Europe/Berlin:20250128T210000
DTSTAMP:20260421T183948
CREATED:20241224T130505Z
LAST-MODIFIED:20241224T130656Z
UID:5877-1738090800-1738098000@www.kirche-nettelnburg.de
SUMMARY:Lasst uns miteinander… singen\,loben\, danken dem Herrn!
DESCRIPTION:Die Pastorin singt etwas\, dann die Gemeinde. Das Mädchen sitzt neben der Mama und singt munter mit. Erneut die Pastorin\, die Gemeinde antwortet. Die Mutter hört genauer hin. Sie stutzt und runzelt die Stirn. Nach dem Gottesdienst fragt sie ihr Töchterchen: „Sag mal\, was hast du denn vorhin beim Kyrie gesungen?“ „Kyrie\, Herr Nelson!“\, erwidert die Kleine fröhlich\, die Pippi Langstrumpf-Fan ist. \n\n\n\nIm Evangelischen Gottesdienstbuch finden sich zwei Grundordnungen\, an denen wir uns orientieren: Die erste ist lutherisch geprägt und übernimmt viele Elemente einer lateinischen Messe; die zweite ist reformiert geprägt und rückt die Predigt mehr in den Mittelpunkt – dazu gibt es viele Variationen. \n\n\n\nAber welche Elemente gibt es überhaupt? Wieso singen wir „Kyrie eleison“ – was heißt das eigentlich? Warum stehen wir bei den Lesungen auf – und wozu gehört das „Halleluja“? Weshalb werden im Gottesdienst Termine angesagt? Wie macht das St. Petri und Pauli – gibt es Unterschiede zu den anderen Gemeinden? Wer entscheidet\, was man macht oder auch nicht? \n\n\n\nAn zwei Abenden gehen wir gemeinsam auf „Entdeckungsreise“: von einem Blick in die Kirchengeschichte bis hin zu „Was heißt das für mich?“. Wir probieren aus\, lernen kennen und entdecken vielleicht ganz neue Aspekte. \n\n\n\nWir treffen uns jeweils am Dienstag\, den 28. Januar und 04. Februar von 19.00 – 21.00 Uhr im Pauli-Saal (Bergedorfer Schloßstraße 2). \n\n\n\nSie brauchen weder Vorkenntnisse\, noch müssen Sie regelmäßig Gottesdienste besucht haben. Alle sind herzlich willkommen. \n\n\n\nZur besseren Planung bitten wir um Anmeldung bei pastorin.dallat@stpetriundpauli-bergedorf.de – bis zum 24. Januar. \n\n\n\nWir freuen uns auf Sie.Johannes Lauckner\, Klaus Singerund Chang-Mi Dallat
URL:https://www.kirche-nettelnburg.de/event/lasst-uns-miteinander1/
LOCATION:Petri und Pauli\, Johann-Adolf-Hasse-Platz\, Hamburg\, 21029
ATTACH;FMTTYPE=image/png:https://www.kirche-nettelnburg.de/wp-content/uploads/2024/12/Bibel-Gottesdienst-Lektionar.png
END:VEVENT
END:VCALENDAR