BEGIN:VCALENDAR
VERSION:2.0
PRODID:-//Evangelisch – lutherische Bugenhagen-Kirchengemeinde Nettelnburg - ECPv6.15.20//NONSGML v1.0//EN
CALSCALE:GREGORIAN
METHOD:PUBLISH
X-WR-CALNAME:Evangelisch – lutherische Bugenhagen-Kirchengemeinde Nettelnburg
X-ORIGINAL-URL:https://www.kirche-nettelnburg.de
X-WR-CALDESC:Veranstaltungen für Evangelisch – lutherische Bugenhagen-Kirchengemeinde Nettelnburg
REFRESH-INTERVAL;VALUE=DURATION:PT1H
X-Robots-Tag:noindex
X-PUBLISHED-TTL:PT1H
BEGIN:VTIMEZONE
TZID:Europe/Berlin
BEGIN:DAYLIGHT
TZOFFSETFROM:+0100
TZOFFSETTO:+0200
TZNAME:CEST
DTSTART:20240331T010000
END:DAYLIGHT
BEGIN:STANDARD
TZOFFSETFROM:+0200
TZOFFSETTO:+0100
TZNAME:CET
DTSTART:20241027T010000
END:STANDARD
BEGIN:DAYLIGHT
TZOFFSETFROM:+0100
TZOFFSETTO:+0200
TZNAME:CEST
DTSTART:20250330T010000
END:DAYLIGHT
BEGIN:STANDARD
TZOFFSETFROM:+0200
TZOFFSETTO:+0100
TZNAME:CET
DTSTART:20251026T010000
END:STANDARD
BEGIN:DAYLIGHT
TZOFFSETFROM:+0100
TZOFFSETTO:+0200
TZNAME:CEST
DTSTART:20260329T010000
END:DAYLIGHT
BEGIN:STANDARD
TZOFFSETFROM:+0200
TZOFFSETTO:+0100
TZNAME:CET
DTSTART:20261025T010000
END:STANDARD
END:VTIMEZONE
BEGIN:VEVENT
DTSTART;TZID=Europe/Berlin:20250201T193000
DTEND;TZID=Europe/Berlin:20250201T220000
DTSTAMP:20260421T170134
CREATED:20230207T190246Z
LAST-MODIFIED:20250221T145643Z
UID:4006-1738438200-1738447200@www.kirche-nettelnburg.de
SUMMARY:Filme gucken im Kirchspiel Bergedorf
DESCRIPTION:Du möchtest gern Filme gucken\, aber nicht allein? Dann bist Du hier genau richtig! Ab März gibt es einmal im Monat freitags (meistens am 3. Freitag) um 19:30 Uhr das Angebot im neuen Gemeindesaal der Bugenhagenkirche Nettelnburg über den Beamer einen Film anzusehen. Und das Tollste ist – Du kannst selber mitbestimmen\, welcher Film gezeigt wird. \n\n\n\n\n\n\n\nEs wird pro Monat zwei Filme zur Auswahl geben (rechtzeitig vor dem Termin auf der Homepage eingestellt). Der Film mit den meisten Stimmen wird gezeigt.  \n\n\n\nWir freuen uns auf Sie:Michaela Ahlers (Bugenhagen)\,  Silke Detlefs (St. Michael)
URL:https://www.kirche-nettelnburg.de/event/filme-gucken-im-kirchspiel-bergedorf-6/
ATTACH;FMTTYPE=image/png:https://www.kirche-nettelnburg.de/wp-content/uploads/2023/02/Film-kino.png
END:VEVENT
BEGIN:VEVENT
DTSTART;TZID=Europe/Berlin:20250202T100000
DTEND;TZID=Europe/Berlin:20250202T100000
DTSTAMP:20260421T170134
CREATED:20250122T210437Z
LAST-MODIFIED:20250122T210439Z
UID:5935-1738490400-1738490400@www.kirche-nettelnburg.de
SUMMARY:Gemeinsames Gebet
DESCRIPTION:Wir laden ein zum gemeinsamen Gebet: Am 2. Februar um 10.00 Uhr in der Kirche. \n\n\n\n\n\n\n\nWir werden miteinander singen\, loben\, danken\, bitten und über einen Bibeltext sprechen.  \n\n\n\nWir freuen uns auf Dich/auf Sie! Petra Klampe und Sylvia Koepp
URL:https://www.kirche-nettelnburg.de/event/gemeinsames-gebet-7/
ATTACH;FMTTYPE=image/jpeg:https://www.kirche-nettelnburg.de/wp-content/uploads/2024/12/DSC_0200-Uwe-Foto--scaled.jpeg
END:VEVENT
BEGIN:VEVENT
DTSTART;TZID=Europe/Berlin:20250204T190000
DTEND;TZID=Europe/Berlin:20250204T210000
DTSTAMP:20260421T170134
CREATED:20241224T130710Z
LAST-MODIFIED:20241224T130716Z
UID:5881-1738695600-1738702800@www.kirche-nettelnburg.de
SUMMARY:Lasst uns miteinander… singen\,loben\, danken dem Herrn!
DESCRIPTION:Die Pastorin singt etwas\, dann die Gemeinde. Das Mädchen sitzt neben der Mama und singt munter mit. Erneut die Pastorin\, die Gemeinde antwortet. Die Mutter hört genauer hin. Sie stutzt und runzelt die Stirn. Nach dem Gottesdienst fragt sie ihr Töchterchen: „Sag mal\, was hast du denn vorhin beim Kyrie gesungen?“ „Kyrie\, Herr Nelson!“\, erwidert die Kleine fröhlich\, die Pippi Langstrumpf-Fan ist. \n\n\n\nIm Evangelischen Gottesdienstbuch finden sich zwei Grundordnungen\, an denen wir uns orientieren: Die erste ist lutherisch geprägt und übernimmt viele Elemente einer lateinischen Messe; die zweite ist reformiert geprägt und rückt die Predigt mehr in den Mittelpunkt – dazu gibt es viele Variationen. \n\n\n\nAber welche Elemente gibt es überhaupt? Wieso singen wir „Kyrie eleison“ – was heißt das eigentlich? Warum stehen wir bei den Lesungen auf – und wozu gehört das „Halleluja“? Weshalb werden im Gottesdienst Termine angesagt? Wie macht das St. Petri und Pauli – gibt es Unterschiede zu den anderen Gemeinden? Wer entscheidet\, was man macht oder auch nicht? \n\n\n\nAn zwei Abenden gehen wir gemeinsam auf „Entdeckungsreise“: von einem Blick in die Kirchengeschichte bis hin zu „Was heißt das für mich?“. Wir probieren aus\, lernen kennen und entdecken vielleicht ganz neue Aspekte. \n\n\n\nWir treffen uns jeweils am Dienstag\, den 28. Januar und 04. Februar von 19.00 – 21.00 Uhr im Pauli-Saal (Bergedorfer Schloßstraße 2). \n\n\n\nSie brauchen weder Vorkenntnisse\, noch müssen Sie regelmäßig Gottesdienste besucht haben. Alle sind herzlich willkommen. \n\n\n\nZur besseren Planung bitten wir um Anmeldung bei pastorin.dallat@stpetriundpauli-bergedorf.de – bis zum 24. Januar. \n\n\n\nWir freuen uns auf Sie.Johannes Lauckner\, Klaus Singerund Chang-Mi Dallat
URL:https://www.kirche-nettelnburg.de/event/lasst-uns-miteinander2/
LOCATION:Petri und Pauli\, Johann-Adolf-Hasse-Platz\, Hamburg\, 21029
ATTACH;FMTTYPE=image/png:https://www.kirche-nettelnburg.de/wp-content/uploads/2024/12/Bibel-Gottesdienst-Lektionar.png
END:VEVENT
BEGIN:VEVENT
DTSTART;TZID=Europe/Berlin:20250207T190000
DTEND;TZID=Europe/Berlin:20250207T190000
DTSTAMP:20260421T170134
CREATED:20250205T184525Z
LAST-MODIFIED:20250205T184527Z
UID:5947-1738954800-1738954800@www.kirche-nettelnburg.de
SUMMARY:Lobpreis
DESCRIPTION:Wir feiern einen Lobpreisabend. Miteinander singen\, zu beten und Gedanken zu teilen. Grundsätzlich immer am ersten Freitag im Monat\, aber manchmal verschieben wir es auch. \n\n\n\nEs ist Freitag\, die Woche war anstrengend\, voll\, stressig. Das Wochenende steht vor der Tür und auch da steht einiges an. Ich bin erschöpft\, ich brauche Ruhe\, eine Tankstelle\, wo ich gestärkt werde. Und dann fällt mir ein\, es ist ja der erste Freitag im Monat – Lobpreisabend!  \n\n\n\nDer Ort\, die Zeit\, die Musik\, wo ich auftanken kann. In den Liedern finde ich Antworten\, Zuspruch\, Trost\, Zuversicht und Kraft\, und immer wieder die Zusage\, ich bin nicht alleine. Gott sieht meine Sorgen\, meinen Stress\, meine Erschöpfung\, und er schenkt mir in dieser Zeit\, in dieser Runde eine Ruheoase. Ich komme zur Ruhe\, mein Herzschlag wird langsamer\, die Gedanken hören auf zu kreisen\, ich kann loslassen. Und er lässt mich erkennen\, wie gut ich es doch habe\, wie dankbar ich eigentlich sein kann. \n\n\n\nSuchst du auch so einen Ort? Dann komm doch mal vorbei und teste aus\, ob es bei dir auch so gut wirkt. Wir treffen uns jeden ersten Freitag im Monat um 19 Uhr für ca. eine Stunde in der Kirche. Gemeinsam singen wir in einer ruhigen\, schönen Atmosphäre viele Lobpreislieder\, und ein kleiner geistiger Input rundet den Lobpreisabend ab. Im Anschluss gibt es immer noch etwas Leckeres zu essen und zu trinken\, sodass der Abend bei einem geselligen Schnack enden kann. Danach gehe ich immer beflügelt und befreit nach Haus\, und die nächsten Herausforderungen können kommen. Das alles in dem Wissen\, dass ich behütet\, getragen und frei bin\, so dass meine Seele singen kann. \n\n\n\nHerzliche Einladung! \n\n\n\nKerstin Heide für das Lobpreisteam
URL:https://www.kirche-nettelnburg.de/event/lobpreis-20/
CATEGORIES:Gottesdienste
ATTACH;FMTTYPE=image/png:https://www.kirche-nettelnburg.de/wp-content/uploads/2022/10/Lobpreis.png
END:VEVENT
BEGIN:VEVENT
DTSTART;TZID=Europe/Berlin:20250209T170000
DTEND;TZID=Europe/Berlin:20250209T170000
DTSTAMP:20260421T170134
CREATED:20241224T124627Z
LAST-MODIFIED:20241224T125428Z
UID:5861-1739120400-1739120400@www.kirche-nettelnburg.de
SUMMARY:Abendleuchten "Pop & classics" in Franz-von-Assisi
DESCRIPTION:Regionales Chorprojekt unter der Leitung von Pastorin Chang-Mi Dallat\, Eva Kleßmann\, Jan Simowitsch und Klaus Singer. \n\n\n\nSiehe auch: Chorworkshop Abendleuchten „Pop & classics“
URL:https://www.kirche-nettelnburg.de/event/abendleuchten-pop-classics-in-franz-von-assisi/
LOCATION:Franz-von-Assisi Kirche\, Grachtenplatz 13\, Hamburg\, Hamburg\, 21035\, Deutschland
CATEGORIES:Gottesdienste,Musik Veranstaltung
ATTACH;FMTTYPE=image/png:https://www.kirche-nettelnburg.de/wp-content/uploads/2024/12/Chorworkshop-Abendleuchten.png
END:VEVENT
BEGIN:VEVENT
DTSTART;TZID=Europe/Berlin:20250210T193000
DTEND;TZID=Europe/Berlin:20250210T210000
DTSTAMP:20260421T170134
CREATED:20241204T221525Z
LAST-MODIFIED:20241204T221604Z
UID:5782-1739215800-1739221200@www.kirche-nettelnburg.de
SUMMARY:Was glauben wir\, wenn wir glauben? (Reinbek)
DESCRIPTION:Was glauben wir\, wenn wir glauben? Das ökumenische Glaubensbekenntnis von Nicäa (325)  \n\n\n\nReferent: Helmut Röhrbein-Viehoff\, Pastoralreferent i. R. \n\n\n\nDreiteilige\, aufeinander aufbauenden Reihe \n\n\n\n13. Januar\, 27. Januar und 10. Februar 2025 jeweils 19.30 – 21.00 Uhr \n\n\n\nGemeindehaus Herz Jesu | Niels Stensen Weg 3\, Reinbek \n\n\n\nDas Gemeindeteam Reinbek und die Gruppe „Miteinander in Kontakt kommen“ laden ein! \n\n\n\nWeitere Info im Flyer:  \n\n\n\nFlyer Theologische Gesprächsreihe 2025Herunterladen
URL:https://www.kirche-nettelnburg.de/event/was-glauben-wir-wenn-wir-glauben-reinbek/
LOCATION:Gemeinde Herz Jesu –  Reinbek\, Niels Stensen Weg 3\, Reinbek\, 21465
ATTACH;FMTTYPE=image/png:https://www.kirche-nettelnburg.de/wp-content/uploads/2024/12/2024-12-02_182526.png
END:VEVENT
BEGIN:VEVENT
DTSTART;TZID=Europe/Berlin:20250211T173000
DTEND;TZID=Europe/Berlin:20250211T183000
DTSTAMP:20260421T170134
CREATED:20241215T212917Z
LAST-MODIFIED:20250207T121513Z
UID:5806-1739295000-1739298600@www.kirche-nettelnburg.de
SUMMARY:Nudelkirche
DESCRIPTION:Liebe Familien\, \n\n\n\nich lade euch im Namen des super-Teams gerne zur nächsten Nudelkirche am 11.2 um 17:30 ein! Anmelden erleichtert uns die Planung\, aber ihr dürft auch spontan erscheinen und auch spontan Menschen mitbringen! \n\n\n\nDer nächste Termin nach dem 11.2 ist der 25.3.
URL:https://www.kirche-nettelnburg.de/event/nudelkirche-7/
CATEGORIES:Kinder Veranstaltung
ATTACH;FMTTYPE=image/png:https://www.kirche-nettelnburg.de/wp-content/uploads/2024/12/Nudelkirche.png
END:VEVENT
BEGIN:VEVENT
DTSTART;TZID=Europe/Berlin:20250213T160000
DTEND;TZID=Europe/Berlin:20250213T180000
DTSTAMP:20260421T170134
CREATED:20241215T212559Z
LAST-MODIFIED:20241215T212600Z
UID:5804-1739462400-1739469600@www.kirche-nettelnburg.de
SUMMARY:Kinderkino & Familiencafé
DESCRIPTION:Liebe Familien! \n\n\n\nHerzliche Einladung zum Kinderkino mit parallelem Eltern-Café. Beide Veranstaltungen sind ein Highlight für sich. \n\n\n\nWährend im Gemeindesaal eine riesige Leinwand und dicker Sound auf die Kinder warten\, erwarten euch Eltern im Café Heißgetränke wie Cappuccino oder Tee.
URL:https://www.kirche-nettelnburg.de/event/kinderkino-familiencafe-6/
CATEGORIES:Kinder Veranstaltung
ATTACH;FMTTYPE=image/png:https://www.kirche-nettelnburg.de/wp-content/uploads/2024/12/Kinderkino.png
END:VEVENT
BEGIN:VEVENT
DTSTART;TZID=Europe/Berlin:20250216T100000
DTEND;TZID=Europe/Berlin:20250216T100000
DTSTAMP:20260421T170134
CREATED:20250205T184731Z
LAST-MODIFIED:20250205T184732Z
UID:5949-1739700000-1739700000@www.kirche-nettelnburg.de
SUMMARY:Gottesdienst
DESCRIPTION:Pastorin Gwen Bryde
URL:https://www.kirche-nettelnburg.de/event/gottesdienst-8/
CATEGORIES:Gottesdienste
ATTACH;FMTTYPE=image/jpeg:https://www.kirche-nettelnburg.de/wp-content/uploads/2021/10/Gottesdienst.jpg
END:VEVENT
BEGIN:VEVENT
DTSTART;TZID=Europe/Berlin:20250223T100000
DTEND;TZID=Europe/Berlin:20250223T100000
DTSTAMP:20260421T170134
CREATED:20250205T185155Z
LAST-MODIFIED:20250205T185257Z
UID:5951-1740304800-1740304800@www.kirche-nettelnburg.de
SUMMARY:Gottesdienst mit Abendmahl und Krönungsmesse von Mozart
DESCRIPTION:Der Chor singt die Krönungsmesse von Mozart. \n\n\n\n\nSusanne Knabbe & Sven Köhler – Geige\n\n\n\nJohannes Lauckner – Cello\n\n\n\nUlrike Eckart – Kontrabass\n\n\n\nArne Gruetzmacher & Katharina Apel-Scholl – Oboe\n\n\n\nKerstin Wolf – Orgel\n\n\n\nHenrike Schäfer – Sopran\n\n\n\nMichaela Ahlers – Alt\n\n\n\nBernd Glaser – Tenor\n\n\n\nThomas Mackens – Bass\n\n\n\nKantoreien St. Michael zu Bergedorf und Bugenhagengemeinde Nettelnburg\n\n\n\nLeitung: Michaela Ahlers\n\n\n\nPastorin: Angelika Meyer
URL:https://www.kirche-nettelnburg.de/event/gottesdienst-mit-abendmahl-15/
CATEGORIES:Gottesdienste,Musik Veranstaltung
ATTACH;FMTTYPE=image/jpeg:https://www.kirche-nettelnburg.de/wp-content/uploads/2021/10/Gottesdienst-mit-Abendmahl.jpg
END:VEVENT
END:VCALENDAR