BEGIN:VCALENDAR
VERSION:2.0
PRODID:-//Evangelisch – lutherische Bugenhagen-Kirchengemeinde Nettelnburg - ECPv6.15.20//NONSGML v1.0//EN
CALSCALE:GREGORIAN
METHOD:PUBLISH
X-WR-CALNAME:Evangelisch – lutherische Bugenhagen-Kirchengemeinde Nettelnburg
X-ORIGINAL-URL:https://www.kirche-nettelnburg.de
X-WR-CALDESC:Veranstaltungen für Evangelisch – lutherische Bugenhagen-Kirchengemeinde Nettelnburg
REFRESH-INTERVAL;VALUE=DURATION:PT1H
X-Robots-Tag:noindex
X-PUBLISHED-TTL:PT1H
BEGIN:VTIMEZONE
TZID:Europe/Berlin
BEGIN:DAYLIGHT
TZOFFSETFROM:+0100
TZOFFSETTO:+0200
TZNAME:CEST
DTSTART:20240331T010000
END:DAYLIGHT
BEGIN:STANDARD
TZOFFSETFROM:+0200
TZOFFSETTO:+0100
TZNAME:CET
DTSTART:20241027T010000
END:STANDARD
BEGIN:DAYLIGHT
TZOFFSETFROM:+0100
TZOFFSETTO:+0200
TZNAME:CEST
DTSTART:20250330T010000
END:DAYLIGHT
BEGIN:STANDARD
TZOFFSETFROM:+0200
TZOFFSETTO:+0100
TZNAME:CET
DTSTART:20251026T010000
END:STANDARD
BEGIN:DAYLIGHT
TZOFFSETFROM:+0100
TZOFFSETTO:+0200
TZNAME:CEST
DTSTART:20260329T010000
END:DAYLIGHT
BEGIN:STANDARD
TZOFFSETFROM:+0200
TZOFFSETTO:+0100
TZNAME:CET
DTSTART:20261025T010000
END:STANDARD
END:VTIMEZONE
BEGIN:VEVENT
DTSTART;TZID=Europe/Berlin:20250705T100000
DTEND;TZID=Europe/Berlin:20250705T100000
DTSTAMP:20260419T235057
CREATED:20250615T185925Z
LAST-MODIFIED:20250615T185927Z
UID:6267-1751709600-1751709600@www.kirche-nettelnburg.de
SUMMARY:1. Konfirmation
DESCRIPTION:1. Konfirmation mit Gemeindepädagoge Daniel Perner und Pastorin Ellen Drephal
URL:https://www.kirche-nettelnburg.de/event/1-konfirmation/
CATEGORIES:Gottesdienste
ATTACH;FMTTYPE=image/jpeg:https://www.kirche-nettelnburg.de/wp-content/uploads/2021/10/Gottesdienst.jpg
END:VEVENT
BEGIN:VEVENT
DTSTART;TZID=Europe/Berlin:20250705T120000
DTEND;TZID=Europe/Berlin:20250705T120000
DTSTAMP:20260419T235057
CREATED:20250615T190105Z
LAST-MODIFIED:20250615T190107Z
UID:6269-1751716800-1751716800@www.kirche-nettelnburg.de
SUMMARY:2. Konfirmation
DESCRIPTION:2. Konfirmation mit Gemeindepädagoge Daniel Perner und Pastorin Ellen Drephal
URL:https://www.kirche-nettelnburg.de/event/2-konfirmation/
ATTACH;FMTTYPE=image/jpeg:https://www.kirche-nettelnburg.de/wp-content/uploads/2021/10/Gottesdienst.jpg
END:VEVENT
BEGIN:VEVENT
DTSTART;TZID=Europe/Berlin:20250706T100000
DTEND;TZID=Europe/Berlin:20250706T100000
DTSTAMP:20260419T235057
CREATED:20250629T154432Z
LAST-MODIFIED:20250629T154434Z
UID:6308-1751796000-1751796000@www.kirche-nettelnburg.de
SUMMARY:Gemeinsames Gebet
DESCRIPTION:Wir laden ein zum gemeinsamen Gebet: Am 6. Juli um 10.00 Uhr in der Kirche. \n\n\n\n \n\n\n\n\n\n\n\nWir werden miteinander singen\, loben\, danken\, bitten und über einen Bibeltext sprechen.  \n\n\n\nWir freuen uns auf Dich/auf Sie! Petra Klampe und Sylvia Koep
URL:https://www.kirche-nettelnburg.de/event/gemeinsames-gebet-10/
CATEGORIES:Gottesdienste
ATTACH;FMTTYPE=image/jpeg:https://www.kirche-nettelnburg.de/wp-content/uploads/2024/12/DSC_0200-Uwe-Foto--scaled.jpeg
END:VEVENT
BEGIN:VEVENT
DTSTART;TZID=Europe/Berlin:20250712T100000
DTEND;TZID=Europe/Berlin:20250712T100000
DTSTAMP:20260419T235057
CREATED:20250615T190219Z
LAST-MODIFIED:20250710T204831Z
UID:6271-1752314400-1752314400@www.kirche-nettelnburg.de
SUMMARY:3. Konfirmation
DESCRIPTION:3. Konfirmation mit Gemeindepädagoge Daniel Perner und Pastorin Ellen Drephal
URL:https://www.kirche-nettelnburg.de/event/3-konfirmation/
CATEGORIES:Gottesdienste,Jugend Veranstaltung
ATTACH;FMTTYPE=image/jpeg:https://www.kirche-nettelnburg.de/wp-content/uploads/2021/10/Gottesdienst.jpg
END:VEVENT
BEGIN:VEVENT
DTSTART;TZID=Europe/Berlin:20250713T100000
DTEND;TZID=Europe/Berlin:20250713T100000
DTSTAMP:20260419T235057
CREATED:20250710T204948Z
LAST-MODIFIED:20250711T074017Z
UID:6329-1752400800-1752400800@www.kirche-nettelnburg.de
SUMMARY:Gottesdienst
DESCRIPTION:Mit: Bernd Burmeister
URL:https://www.kirche-nettelnburg.de/event/gottesdienst-12/
CATEGORIES:Gottesdienste
ATTACH;FMTTYPE=image/jpeg:https://www.kirche-nettelnburg.de/wp-content/uploads/2021/10/Gottesdienst.jpg
END:VEVENT
BEGIN:VEVENT
DTSTART;TZID=Europe/Berlin:20250715T173000
DTEND;TZID=Europe/Berlin:20250715T173000
DTSTAMP:20260419T235057
CREATED:20250209T155321Z
LAST-MODIFIED:20250711T093916Z
UID:5961-1752600600-1752600600@www.kirche-nettelnburg.de
SUMMARY:Nudelkirche
DESCRIPTION:Liebe Familien\, \n\n\n\nich lade euch im Namen des Super-Teams gerne zur nächsten Nudelkirche für Familien : Geschichte\, Segen und Abendessen um 17:30 ein! Anmelden erleichtert uns die Planung\, aber ihr dürft auch spontan erscheinen und auch spontan Menschen mitbringen!
URL:https://www.kirche-nettelnburg.de/event/nudelkirche-8/
CATEGORIES:Kinder Veranstaltung
ATTACH;FMTTYPE=image/png:https://www.kirche-nettelnburg.de/wp-content/uploads/2024/12/Nudelkirche.png
END:VEVENT
BEGIN:VEVENT
DTSTART;TZID=Europe/Berlin:20250720T000000
DTEND;TZID=Europe/Berlin:20250720T235959
DTSTAMP:20260419T235057
CREATED:20250717T154521Z
LAST-MODIFIED:20250717T154522Z
UID:6385-1752969600-1753055999@www.kirche-nettelnburg.de
SUMMARY:Bücherstube
DESCRIPTION:Sommerzeit – Ferienzeit – Lesezeit\, eine Zeit mit vielen Möglichkeiten Neues zu entdecken. Und\, es muss nicht immer die große weite Welt sein. Man kann sich auch durch ein Buch in eine andere Welt versetzen lassen. Finden Sie bei uns IHRE Sommergeschichte. \n\n\n\nDie Möglichkeit dazu haben Sie an folgenden Sonntagen: \n\n\n\nVon April bis Juni sind wir an folgenden Sonntagen für Sie da: \n\n\n\n\n06.07.\n\n\n\n20.07.\n\n\n\n31.08.\n\n\n\n14.09.\n\n\n\n28.09.\n\n\n\n\nBei Bedarf können Sie mich (H. Beckmann) auch gerne anrufen Tel.: 040 – 735 45 84.  \n\n\n\nEinen erholsamen Sommer wünschen: \n\n\n\nHeidi Beckmann & Cornelia von Gottberg
URL:https://www.kirche-nettelnburg.de/event/buecherstube/
ATTACH;FMTTYPE=image/png:https://www.kirche-nettelnburg.de/wp-content/uploads/2021/03/book-2022464_640.png
END:VEVENT
BEGIN:VEVENT
DTSTART;TZID=Europe/Berlin:20250720T100000
DTEND;TZID=Europe/Berlin:20250720T100000
DTSTAMP:20260419T235057
CREATED:20241224T124437Z
LAST-MODIFIED:20250711T094147Z
UID:5857-1753005600-1753005600@www.kirche-nettelnburg.de
SUMMARY:Kirche Kunterbunt
DESCRIPTION:Ein besonderer Gottesdienst für die ganze Gemeinde – frech und wild und wunderbar. Zum Thema Wasser. \n\n\n\nAktiv-Zeit. Stationen zum Kreativsein\, Experimentieren\, Austauschen…  \n\n\n\nFeier-Zeit Staunen\, Musik\, Geschichten und Gedanken zu Gott und der Welt  \n\n\n\nEssens-Zeit lecker\, fröhlich und mit viel Zeit für Gespräche und Austausch \n\n\n\n \n\n\n\nWir freuen uns auf euch 🙂 \n\n\n\nEuer Kirche-Kunterbunt-Team
URL:https://www.kirche-nettelnburg.de/event/kirche-kunterbunt-5/
CATEGORIES:Gottesdienste
ATTACH;FMTTYPE=image/png:https://www.kirche-nettelnburg.de/wp-content/uploads/2024/02/Kirche-Kunterbunt-Logo.png
END:VEVENT
BEGIN:VEVENT
DTSTART;TZID=Europe/Berlin:20250721T150000
DTEND;TZID=Europe/Berlin:20250721T170000
DTSTAMP:20260419T235057
CREATED:20250712T203310Z
LAST-MODIFIED:20250712T203311Z
UID:6354-1753110000-1753117200@www.kirche-nettelnburg.de
SUMMARY:Seniorenkreis "Feierabend": Nadel-Faden-Fingerhut
DESCRIPTION:Bleibt nicht zu Hause im Sessel sitzen… Komm zu uns\, wir freuen uns auf Dich! \n\n\n\nPlauderei rund ums Nähkästchen. \n\n\n\nDas Team des Feierabendkreises: Monika Burmeister\, Carola Jürs
URL:https://www.kirche-nettelnburg.de/event/seniorenkreis-feierabend-nadel-faden-fingerhut/
ATTACH;FMTTYPE=image/jpeg:https://www.kirche-nettelnburg.de/wp-content/uploads/2022/06/Seniorenkreis-„Feierabend-scaled.jpg
END:VEVENT
BEGIN:VEVENT
DTSTART;TZID=Europe/Berlin:20250727T100000
DTEND;TZID=Europe/Berlin:20250727T100000
DTSTAMP:20260419T235057
CREATED:20250712T095407Z
LAST-MODIFIED:20250712T095409Z
UID:6334-1753610400-1753610400@www.kirche-nettelnburg.de
SUMMARY:Sommerkirche in Bugenhagen mit Chor
DESCRIPTION:Pastorin Chang-Mi Dallat
URL:https://www.kirche-nettelnburg.de/event/sommerkirche-in-bugenhagen-mit-chor/
CATEGORIES:Gottesdienste
ATTACH;FMTTYPE=image/png:https://www.kirche-nettelnburg.de/wp-content/uploads/2021/05/Kirchspiel.png
END:VEVENT
BEGIN:VEVENT
DTSTART;TZID=Europe/Berlin:20250728T000000
DTEND;TZID=Europe/Berlin:20250801T235959
DTSTAMP:20260419T235057
CREATED:20240911T184733Z
LAST-MODIFIED:20250606T151933Z
UID:5558-1753660800-1754092799@www.kirche-nettelnburg.de
SUMMARY:Kindersommerfreizeit 2025 (5-11 Jahre)
DESCRIPTION:KINDERSOMMERFREIZEIT 2025 in die Wingst \n\n\n\nFür Kinder von 5-11 Jahren \n\n\n\n28.Juli-01.08.2025 \n\n\n\n\n\n\n\nDas Freizeitheim \n\n\n\ngroßer Speiseraum\, Mehrzweckhalle (Fußball\, Tischtennis\, Kicker\, etc.) und Werkraum \n\n\n\nAußengelände Großes Waldgrundstück\, Kinderspielplatz\, Sportaktivitäten\, Fußball\, Basketball\, Tischtennis\, Grillplatz \n\n\n\nProgramm: Zum festen Bestandteil der Freizeit gehört das Bibelprogramm\, bei dem wir singen\, Geschichten hören und erleben\, spielen\, rätseln\, basteln und Geländespiele machen. \n\n\n\nNachmittags finden Aktionen (Geländespiele etc. oder Programm zum Wählen) statt. \n\n\n\nZur Freizeit gehört ebenfalls die Mithilfe bei den “Diensten”\, wie z.B. beim Tischdienst. \n\n\n\nVerpflegung: Vollpension mit 4 Mahlzeiten vom HausIn dem Preis eingeschlossen sind Unterkunft und Verpflegung\, Gepäcktransport\, Programm und Material. Wir setzen eine Deutschlandcard als Fahrkarte voraus. Falls diese nicht vorhanden ist müssten sie eine Fahrkarte für die Hin und Rückfahrt erwerben. \n\n\n\nWoSchullandheim der Abendrothschule in der WingstWassermühle 48\, 21789 WingstWann28. Juli – 01.August 2025 (Mo-Fr) Kofferabgabe 27.Juli 17.00-17.30 Uhr.Wer darf mitfahren?Das Freizeitangebot gilt für alle 5–11- Jährigen.Wie viel soll der Spaß kosten?Die Freizeitkosten belaufen sich auf 220\, – €.Wie melde ich mich an?Über das Anmeldeformular; siehe unten \n\n\n\n \n\n\n\nAnspr: Christina Mannemann (C.R.Mannemann@outlook.de) \n\n\n\n\n\n\n\n\n\n\nAnmeldung KINDERSOMMERFREIZEIT 28.7 - 01.08-2025\nAnmeldung KINDERSOMMERFREIZEIT 28.7 - 01.08-2025\n\n\n\n\n\n\n\n	Vorname des Kindes\n		*\n	\n	\n	Vorname\n	\n\n\n	Nachname des Kindes\n		*\n	\n	\n	Nachname\n	\n\n\n	Geburtsdatum des Kindes\n		\n	\n	\n	\n	\n\n\n	Adresse\n		\n	\n	\n	\n	\n\n\n	E-Mail Adresse eines Elternteils\n		\n	\n	\n	\n	\n\n\n	Während der Kinderfreizeit  sind wir zu erreichen unter:\n		\n	\n	\n	\n	\n\n\n	Das Kind ist krankenversichert bei:\n		\n	\n	\n	\n	\n\n\n	Das Kind ist Vegetarier\n		\n	\n	\n	\n	\n\n\n	Besondere Krankheiten\, Allergien\, Unverträglichkeiten\n		*\n	\n	\n	\n	\n\n\n	Evtl. erforderliche Arztbehandlung\n		\n	\n	\n	Wir erklären uns mit einer erforderlichen Arztbehandlung\, sowie mit den vom Arzt verordneten Maßnahmen einverstanden. (Wir haben mit ihnen telefonischen Kontakt und sprechen jedes ärztliche und medikamentöse Vorgehen mit ihnen ab) \n	\n\n\n	Unser Kind hat die Erlaubnis zur Teilnahme an  sportlichen Aktivitäten\, die von uns angeboten werden. (Fußball\, Geländespiele usw.)\n		\n	\n	\n	\n	\n\n\n	Hiermit gebe ich die Erlaubnis\, dass Fotos von der Kindersommerfreizeit  mit meinem Kind (ohne Namen) -schutzwürdige Interessen werden beachtet-im Gemeindehaus ausgehängt werden.\n		\n	\n						\n			 im Gemeindehaus ausgehängt werden\n					\n			 Fotos\, auf denen mein Kind zu sehen ist\, dürfen an andere Freizeitbeteiligte\, in ausgedruckter Form\, verteilt werden.\n					\n			 Mein Kind darf auf das Gruppenfoto; dieses Bild wird an alle verteilt!\n					\n			 Nein\n\n	\n	\n\n\n	Besondere Anmerkungen\n		\n	\n	\n	Die Organisation und die Kosten einer vorzeitigen Rückfahrt z.B. wegen Krankheit\, Heimweh oder aus Disziplinargründen gehen zu Lasten der Erziehungsberechtigten. \nDie Anmeldung ist gültig nach Empfang der Anmeldebestätigung\, die Ihnen zugeschickt wird. \nVor der Freizeit erhalten sie eine Rechnung. Die Freizeitkosten belaufen sich auf 220\,- €.\n	\n\n\n	\n\nSenden\n\n\n\n	\n			\n			\n				Falls Du menschlich bist\, lasse dieses Feld leer.
URL:https://www.kirche-nettelnburg.de/event/kindersommerfreizeit-2025-5-11-jahre/
CATEGORIES:Kinder Veranstaltung
ATTACH;FMTTYPE=image/jpeg:https://www.kirche-nettelnburg.de/wp-content/uploads/2021/08/P7010831-scaled.jpg
END:VEVENT
END:VCALENDAR