BEGIN:VCALENDAR
VERSION:2.0
PRODID:-//Evangelisch – lutherische Bugenhagen-Kirchengemeinde Nettelnburg - ECPv6.15.20//NONSGML v1.0//EN
CALSCALE:GREGORIAN
METHOD:PUBLISH
X-WR-CALNAME:Evangelisch – lutherische Bugenhagen-Kirchengemeinde Nettelnburg
X-ORIGINAL-URL:https://www.kirche-nettelnburg.de
X-WR-CALDESC:Veranstaltungen für Evangelisch – lutherische Bugenhagen-Kirchengemeinde Nettelnburg
REFRESH-INTERVAL;VALUE=DURATION:PT1H
X-Robots-Tag:noindex
X-PUBLISHED-TTL:PT1H
BEGIN:VTIMEZONE
TZID:Europe/Berlin
BEGIN:DAYLIGHT
TZOFFSETFROM:+0100
TZOFFSETTO:+0200
TZNAME:CEST
DTSTART:20240331T010000
END:DAYLIGHT
BEGIN:STANDARD
TZOFFSETFROM:+0200
TZOFFSETTO:+0100
TZNAME:CET
DTSTART:20241027T010000
END:STANDARD
BEGIN:DAYLIGHT
TZOFFSETFROM:+0100
TZOFFSETTO:+0200
TZNAME:CEST
DTSTART:20250330T010000
END:DAYLIGHT
BEGIN:STANDARD
TZOFFSETFROM:+0200
TZOFFSETTO:+0100
TZNAME:CET
DTSTART:20251026T010000
END:STANDARD
BEGIN:DAYLIGHT
TZOFFSETFROM:+0100
TZOFFSETTO:+0200
TZNAME:CEST
DTSTART:20260329T010000
END:DAYLIGHT
BEGIN:STANDARD
TZOFFSETFROM:+0200
TZOFFSETTO:+0100
TZNAME:CET
DTSTART:20261025T010000
END:STANDARD
END:VTIMEZONE
BEGIN:VEVENT
DTSTART;TZID=Europe/Berlin:20251002T000000
DTEND;TZID=Europe/Berlin:20251005T235959
DTSTAMP:20260419T190355
CREATED:20250217T153437Z
LAST-MODIFIED:20250217T153439Z
UID:6012-1759363200-1759708799@www.kirche-nettelnburg.de
SUMMARY:Familienfreundliche Herbstfreizeit Mözen 2025
DESCRIPTION:…Kirche mal anders…Familienfreundliche Herbstfreizeit Mözen 02. – 05. Oktober 2025.  \n\n\n\nJugendgästehaus Rothfos am Mözener See\n\n\n\nZeit zum \n\n\n\n\nKennenlernen…\n\n\n\nSingen und Musizieren…\n\n\n\nSpielen und Spaß haben…\n\n\n\nBasteln…\n\n\n\nKirche mal anders erleben\n\n\n\nWandern und Draußen sein\n\n\n\ngemeinsamen Essen\n\n\n\n\nDas Haus Rothfos\, umgeben von Wald und Wiesen\, in entspannter und ruhiger Atmosphäre\, ideal für Familien. Mözen\, mitten im Dreieck Kiel–Hamburg–Lübeck. Die Anreise erfolgt mit privaten PKWs. Mitfahrgelegenheiten wird es geben. \n\n\n\nWeitere Information und Anmeldeformular im Flyer:  \n\n\n\nFlyerAnmeldung2025_1Herunterladen
URL:https://www.kirche-nettelnburg.de/event/familienfreundliche-herbstfreizeit-moezen-2025/
CATEGORIES:Jugend Veranstaltung,Kinder Veranstaltung
ATTACH;FMTTYPE=image/png:https://www.kirche-nettelnburg.de/wp-content/uploads/2025/02/Jugendgaestehaus-Rothfos-am-Moezener-See.png
END:VEVENT
BEGIN:VEVENT
DTSTART;TZID=Europe/Berlin:20251002T000000
DTEND;TZID=Europe/Berlin:20251005T235959
DTSTAMP:20260419T190355
CREATED:20250717T153242Z
LAST-MODIFIED:20250717T153244Z
UID:6381-1759363200-1759708799@www.kirche-nettelnburg.de
SUMMARY:Partnerschaftsfahrt nach Dresden
DESCRIPTION:Viele erinnern sich noch an das Partnertreffen im letzten Jahr zum 70. Jubiläum. 1954 wird es auch 2025 eine Begegnung mit der Gemeinde in Dresden-Laubegast geben. Nur einmal war diese Reihe unterbrochen: 2020 wegen der Corona-Pandemie. Wir werden am 2. Oktober starten\, dort drei Tage gemeinsam mit den Freunden verbringen und am 5. Oktober zurückkehren. Die Fahrt erfolgt in Privatwagen (wir teilen uns die Kosten) und die Übernachtung (kostenlos) in privaten Quartieren. Wir unternehmen Ausflüge\, haben Gemeinschaft mit unseren Gastgebern und geistliche Gemeinschaft bei Themengesprächen und im Gottesdienst. \n\n\n\nHinweis: Zeitgleich findet auch die Herbstfreizeit unserer Gemeinde statt. Wer also dort mitfahren möchte oder sich sogar schon angemeldet hat\, kann diesmal nicht mit nach Dresden. \n\n\n\nBei Interesse bitte bei Martin Reesch melden (martin.reesch@t-online.de) \n\n\n\nMartin Reesch
URL:https://www.kirche-nettelnburg.de/event/partnerschaftsfahrt-nach-dresden/
END:VEVENT
BEGIN:VEVENT
DTSTART;TZID=Europe/Berlin:20251005T100000
DTEND;TZID=Europe/Berlin:20251005T100000
DTSTAMP:20260419T190355
CREATED:20250911T133352Z
LAST-MODIFIED:20250922T194942Z
UID:6459-1759658400-1759658400@www.kirche-nettelnburg.de
SUMMARY:Gemeinsames Gebet
DESCRIPTION:Wir laden ein zum gemeinsamen Gebet: Am 5. Oktober und 7. Dezember um 10.00 Uhr in der Kirche. \n\n\n\nWir werden miteinander singen\, loben\, danken\, bitten und über einen Bibeltext sprechen. \n\n\n\nWir freuen uns auf Dich/auf Sie! \n\n\n\nPetra Klampe und Sylvia Koeppe
URL:https://www.kirche-nettelnburg.de/event/gemeinsames-gebet-11/
CATEGORIES:Gottesdienste
ATTACH;FMTTYPE=image/jpeg:https://www.kirche-nettelnburg.de/wp-content/uploads/2024/12/DSC_0200-Uwe-Foto--scaled.jpeg
END:VEVENT
BEGIN:VEVENT
DTSTART;TZID=Europe/Berlin:20251007T193000
DTEND;TZID=Europe/Berlin:20251007T213000
DTSTAMP:20260419T190355
CREATED:20250803T110420Z
LAST-MODIFIED:20250803T110833Z
UID:6426-1759865400-1759872600@www.kirche-nettelnburg.de
SUMMARY:Bo(o)tschaften\, die ins Leben fallen
DESCRIPTION:Zweiter Teil der Veranstaltung „Bo(o)tschaften\, die ins Leben fallen. Auch hierzu laden wir sie herzlich ein!
URL:https://www.kirche-nettelnburg.de/event/bootschaften-die-ins-leben-fallen-2/
ATTACH;FMTTYPE=image/jpeg:https://www.kirche-nettelnburg.de/wp-content/uploads/2025/08/Schiff2.jpg
END:VEVENT
BEGIN:VEVENT
DTSTART;TZID=Europe/Berlin:20251008T190000
DTEND;TZID=Europe/Berlin:20251008T203000
DTSTAMP:20260419T190355
CREATED:20230330T184251Z
LAST-MODIFIED:20251008T142151Z
UID:4142-1759950000-1759955400@www.kirche-nettelnburg.de
SUMMARY:Gemeindeversammlung
DESCRIPTION:Der Kirchengemeinderat lädt für Mittwoch\, den 08.10.2025 herzlich zu einer Gemeindeversammlung ein.  \n\n\n\nFolgende Themen möchten wir u.a gerne mit Ihnen und Euch besprechen:  \n\n\n\n\nBegrüßung und Wahl des/der Vorsitzenden der Gemeindeversammlung\n\n\n\nBericht KGR\n\n\n\nKita\n\n\n\nBüroassistenz / Digitales Kirchenbüro (DIOVA)\n\n\n\nÖffentlichkeitsarbeit (u.a. Turmhahn)\n\n\n\nJugend\n\n\n\nKirchspiel\n\n\n\nMusik\n\n\n\nSommerfest 2026\n\n\n\nFragen\n\n\n\n\n\n\n\n\nWir alle machen unsere Gemeinde aus\, daher freuen wir uns\, wenn ganz viele kommen und wir miteinander ins Gespräch kommen. Weitere Themenwünsche können uns gerne per E-Mail an folgende Adresse: kgr@kirche-nettelnburg.de\, aufgegeben werden. \n\n\n\nDie Versammlung beginnt um 19:00 Uhr und findet in der Kirche statt.
URL:https://www.kirche-nettelnburg.de/event/gemeindeversammlung-2/
ATTACH;FMTTYPE=image/png:https://www.kirche-nettelnburg.de/wp-content/uploads/2022/04/Fragen.png
END:VEVENT
BEGIN:VEVENT
DTSTART;TZID=Europe/Berlin:20251009T190000
DTEND;TZID=Europe/Berlin:20251009T190000
DTSTAMP:20260419T190355
CREATED:20250717T151423Z
LAST-MODIFIED:20250717T151425Z
UID:6373-1760036400-1760036400@www.kirche-nettelnburg.de
SUMMARY:Bibelabend
DESCRIPTION:Wir laden ein zu einem Bibelabend\, der am Donners­tag\, dem 9. Oktober\, im Gemeindehaus angeboten wird. Wir beginnen um 19 Uhr mit einer offenen Eingangspha­se und der Möglichkeit zum Gespräch miteinander. Um 19:30 Uhr steigen wir dann in das Thema ein. Als Referent eingeladen ist diesmal Pastor Dr. Jan Jackisch. \n\n\n\nMartin Reesch
URL:https://www.kirche-nettelnburg.de/event/bibelabend/
CATEGORIES:Gemeindesaal
ATTACH;FMTTYPE=image/png:https://www.kirche-nettelnburg.de/wp-content/uploads/2024/12/Bibel-Gottesdienst-Lektionar.png
END:VEVENT
BEGIN:VEVENT
DTSTART;TZID=Europe/Berlin:20251010T170000
DTEND;TZID=Europe/Berlin:20251010T200000
DTSTAMP:20260419T190355
CREATED:20251009T211541Z
LAST-MODIFIED:20251009T211543Z
UID:6667-1760115600-1760126400@www.kirche-nettelnburg.de
SUMMARY:Tischtennistunier
DESCRIPTION:
URL:https://www.kirche-nettelnburg.de/event/tischtennistunier/
CATEGORIES:Jugend Veranstaltung
ATTACH;FMTTYPE=image/png:https://www.kirche-nettelnburg.de/wp-content/uploads/2025/10/Bildschirmfoto-2025-10-09-um-23.05.32.png
END:VEVENT
BEGIN:VEVENT
DTSTART;TZID=Europe/Berlin:20251010T190000
DTEND;TZID=Europe/Berlin:20251010T190000
DTSTAMP:20260419T190355
CREATED:20250911T134122Z
LAST-MODIFIED:20250911T134124Z
UID:6464-1760122800-1760122800@www.kirche-nettelnburg.de
SUMMARY:Lobpreis
DESCRIPTION:Wir feiern einen Lobpreisabend. Miteinander singen\, zu beten und Gedanken zu teilen. Grundsätzlich immer am ersten Freitag im Monat\, aber manchmal verschieben wir es auch. \n\n\n\nEs ist Freitag\, die Woche war anstrengend\, voll\, stressig. Das Wochenende steht vor der Tür und auch da steht einiges an. Ich bin erschöpft\, ich brauche Ruhe\, eine Tankstelle\, wo ich gestärkt werde. Und dann fällt mir ein\, es ist ja der erste Freitag im Monat – Lobpreisabend!  \n\n\n\nDer Ort\, die Zeit\, die Musik\, wo ich auftanken kann. In den Liedern finde ich Antworten\, Zuspruch\, Trost\, Zuversicht und Kraft\, und immer wieder die Zusage\, ich bin nicht alleine. Gott sieht meine Sorgen\, meinen Stress\, meine Erschöpfung\, und er schenkt mir in dieser Zeit\, in dieser Runde eine Ruheoase. Ich komme zur Ruhe\, mein Herzschlag wird langsamer\, die Gedanken hören auf zu kreisen\, ich kann loslassen. Und er lässt mich erkennen\, wie gut ich es doch habe\, wie dankbar ich eigentlich sein kann. \n\n\n\nSuchst du auch so einen Ort? Dann komm doch mal vorbei und teste aus\, ob es bei dir auch so gut wirkt. Wir treffen uns jeden ersten Freitag im Monat um 19 Uhr für ca. eine Stunde in der Kirche. Gemeinsam singen wir in einer ruhigen\, schönen Atmosphäre viele Lobpreislieder\, und ein kleiner geistiger Input rundet den Lobpreisabend ab. Im Anschluss gibt es immer noch etwas Leckeres zu essen und zu trinken\, sodass der Abend bei einem geselligen Schnack enden kann. Danach gehe ich immer beflügelt und befreit nach Haus\, und die nächsten Herausforderungen können kommen. Das alles in dem Wissen\, dass ich behütet\, getragen und frei bin\, so dass meine Seele singen kann. \n\n\n\nHerzliche Einladung! \n\n\n\nKerstin Heide für das Lobpreisteam
URL:https://www.kirche-nettelnburg.de/event/lobpreis-26/
CATEGORIES:Gottesdienste,Musik Veranstaltung
ATTACH;FMTTYPE=image/png:https://www.kirche-nettelnburg.de/wp-content/uploads/2022/10/Lobpreis.png
END:VEVENT
BEGIN:VEVENT
DTSTART;TZID=Europe/Berlin:20251011T140000
DTEND;TZID=Europe/Berlin:20251011T170000
DTSTAMP:20260419T190355
CREATED:20250425T193056Z
LAST-MODIFIED:20250927T142402Z
UID:6203-1760191200-1760202000@www.kirche-nettelnburg.de
SUMMARY:Bibelendeckertag (5-12 Jahre)
DESCRIPTION:Wo? In der Kirche\, im Gemeindehaus und auf dem Außengelände. \n\n\n\nWas? Das bunte Programm besteht z.B. aus Spielen\, Playmobil\, Singen\, Theater\, Basteln und Rätseln. \n\n\n\n\n\n\n\nBringe bitte mit: \n\n\n\n\nEine große Tasche (für Preise und Gebasteltes)\n\n\n\nHausschuhe (helfen uns bei Schmuddelwetter)\n\n\n\nEine Trinkflasche und einen kleinen Snack.\n\n\n\nBei Fragen sprechen Sie mich gerne an! (Mail)\n\n\n\n\nBitte die Anmeldeseite unten benutzen. \n\n\n\nEs freut sich auf euch eure  \n\n\n\nChristina Mannemann und das Bibelentdeckertagteam \n\n\n\n\n\n\nAnmeldung Bibelentdeckertag 11.10.205\nAnmeldung Bibelentdeckertag 11.10.205\n\n\n\n\n\n\n\n	Vorname des Kindes\n		*\n	\n	\n	Vorname\n	\n\n\n	Nachname des Kindes\n		*\n	\n	\n	Nachname\n	\n\n\n	Geburtsdatum des Kindes\n		\n	\n	\n	\n	\n\n\n	Besondere Krankheiten\, Allergien\, Unverträglichkeiten oder Vegetarier\n		*\n	\n	\n	\n	\n\n\n	Während des Tages sind wir zu erreichen unter:\n		\n	\n	\n	\n	\n\n\n	Hiermit gebe ich die Erlaubnis\, dass Fotos vom Bibelentdeckertag  mit meinem Kind (ohne Namen) -schutzwürdige Interessen werden beachtet-im Gemeindehaus ausgehängt werden\n		\n	\n						\n			 Ja\n					\n			 Nein\n\n	\n	\n\n\n	Mein Kind geht alleine nach Hause.\n		\n	\n	\n	\n	\n\n\n	Ich möchte die Infomail über Angebote für Kinder und Familien von der Bugenhagenkirchengemeinde Nettelnburg erhalten.\n		\n	\n						\n			 Ja\n					\n			 Nein\n\n	\n	\n\n\n	Wenn Ja\, dann bitte die Email-Adresse eintragen.\n		\n	\n	\n	\n	\n\n\n	\n\nSenden\n\n\n\n	\n			\n			\n				Falls Du menschlich bist\, lasse dieses Feld leer.
URL:https://www.kirche-nettelnburg.de/event/bibelendeckertag-okt2025/
CATEGORIES:Kinder Veranstaltung
ATTACH;FMTTYPE=image/png:https://www.kirche-nettelnburg.de/wp-content/uploads/2025/04/Geld.png
END:VEVENT
BEGIN:VEVENT
DTSTART;TZID=Europe/Berlin:20251012T000000
DTEND;TZID=Europe/Berlin:20251012T235959
DTSTAMP:20260419T190355
CREATED:20251009T193048Z
LAST-MODIFIED:20251009T193546Z
UID:6600-1760227200-1760313599@www.kirche-nettelnburg.de
SUMMARY:Bücherstube
DESCRIPTION:Kaum ist der Sommer zu Ende\, sieht man wieder überall Kalender. Eine besonders schöne Auswahl gibt es in der Bücherstube. Kommen Sie gern vorbei und wählen Sie Ihre Kalender für 2026 aus. Für die Adventszeit können Sie bei uns auch wieder den „Anderen Advent“ bestellen. \n\n\n\n Von Oktober bis Dezember sind wir an folgenden Sonntagen für Sie da: \n\n\n\n\n12.10.\n\n\n\n26.10.\n\n\n\n09.11.\n\n\n\n23.11.\n\n\n\n30.11.\n\n\n\n07.12.\n\n\n\n21.12.\n\n\n\n\nAußerdem finden Sie uns beim Weihnachtsmarkt am Samstag\, den 6. Dezember im Gemeindesaal. \n\n\n\nEs freuen sich auf Sie: \n\n\n\nHeidi Beckmann & Cornelia von Gottberg
URL:https://www.kirche-nettelnburg.de/event/buecherstube-5/
CATEGORIES:Gemeindesaal
ATTACH;FMTTYPE=image/png:https://www.kirche-nettelnburg.de/wp-content/uploads/2021/03/book-2022464_640.png
END:VEVENT
BEGIN:VEVENT
DTSTART;TZID=Europe/Berlin:20251012T100000
DTEND;TZID=Europe/Berlin:20251012T100000
DTSTAMP:20260419T190355
CREATED:20250925T164342Z
LAST-MODIFIED:20250925T164350Z
UID:6503-1760263200-1760263200@www.kirche-nettelnburg.de
SUMMARY:Gottesdienst mit Taufe (Pastorin Gwen Bryde)
DESCRIPTION:Gottesdienst mit Taufe \n\n\n\nPastorin Gwen Bryde
URL:https://www.kirche-nettelnburg.de/event/gottesdienst-mit-taufe-pastorin-gwen-bryde/
CATEGORIES:Gottesdienste
ATTACH;FMTTYPE=image/jpeg:https://www.kirche-nettelnburg.de/wp-content/uploads/2021/10/Gottesdienst.jpg
END:VEVENT
BEGIN:VEVENT
DTSTART;TZID=Europe/Berlin:20251014T173000
DTEND;TZID=Europe/Berlin:20251014T183000
DTSTAMP:20260419T190355
CREATED:20251009T195336Z
LAST-MODIFIED:20251009T195338Z
UID:6616-1760463000-1760466600@www.kirche-nettelnburg.de
SUMMARY:Nudelkirche
DESCRIPTION:
URL:https://www.kirche-nettelnburg.de/event/nudelkirche-10/
CATEGORIES:Familien Veranstaltung,Gemeindesaal,Jugend Veranstaltung,Kinder Veranstaltung
ATTACH;FMTTYPE=image/png:https://www.kirche-nettelnburg.de/wp-content/uploads/2025/07/Bildschirmfoto-2025-07-17-um-18.30.37.png
END:VEVENT
BEGIN:VEVENT
DTSTART;TZID=Europe/Berlin:20251016T160000
DTEND;TZID=Europe/Berlin:20251016T173000
DTSTAMP:20260419T190355
CREATED:20251014T154408Z
LAST-MODIFIED:20251014T154953Z
UID:6738-1760630400-1760635800@www.kirche-nettelnburg.de
SUMMARY:Kinderkino und Eltern-Café
DESCRIPTION:Liebe Familien!Nun geht es endlich wieder los! \n\n\n\nHerzliche Einladung zum Kinderkino mit parallelem Eltern-Café. Beide Veranstaltungen sind ein Highlight für sich. \n\n\n\nWährend im Gemeindesaal eine riesige Leinwand und dicker Sound auf die Kinder warten\, erwarten euch Eltern im Café Heißgetränke wie Cappuccino oder Tee.
URL:https://www.kirche-nettelnburg.de/event/kinderkino-und-eltern-cafe/
CATEGORIES:Familien Veranstaltung,Gemeindesaal,Jugend Veranstaltung,Kinder Veranstaltung
ATTACH;FMTTYPE=image/png:https://www.kirche-nettelnburg.de/wp-content/uploads/2025/10/Bildschirmfoto-2025-10-09-um-22.05.06.png
END:VEVENT
BEGIN:VEVENT
DTSTART;TZID=Europe/Berlin:20251019T100000
DTEND;TZID=Europe/Berlin:20251019T100000
DTSTAMP:20260419T190355
CREATED:20251006T180657Z
LAST-MODIFIED:20251006T180800Z
UID:6529-1760868000-1760868000@www.kirche-nettelnburg.de
SUMMARY:Gottesdienst (Pastorin Ellen Drephal)
DESCRIPTION:Gottesdienst
URL:https://www.kirche-nettelnburg.de/event/gottesdienst-pastorin-ellen-drephal/
CATEGORIES:Gottesdienste
ATTACH;FMTTYPE=image/jpeg:https://www.kirche-nettelnburg.de/wp-content/uploads/2021/10/Gottesdienst.jpg
END:VEVENT
BEGIN:VEVENT
DTSTART;TZID=Europe/Berlin:20251020T150000
DTEND;TZID=Europe/Berlin:20251020T170000
DTSTAMP:20260419T190355
CREATED:20251009T190344Z
LAST-MODIFIED:20251010T210612Z
UID:6588-1760972400-1760979600@www.kirche-nettelnburg.de
SUMMARY:Seniorenkreis "Feierabend": Die Apfelgräfin
DESCRIPTION:Wir erfahren etwas über das Leben von Daisy Gräfin von Armin. \n\n\n\nCarola Jürs (0 40 – 735 54 24) / Monica Burmeister (0 40 – 735 44 47)! \n\n\n\n \n\n\n\nDas Team des Feierabendkreises: Monica Burmeister und Carola Jürs
URL:https://www.kirche-nettelnburg.de/event/seniorenkreis-feierabend-die-apfelgraefin/
CATEGORIES:Gemeindesaal,Senioren Veranstaltung
ATTACH;FMTTYPE=image/jpeg:https://www.kirche-nettelnburg.de/wp-content/uploads/2022/06/Seniorenkreis-„Feierabend-scaled.jpg
END:VEVENT
BEGIN:VEVENT
DTSTART;TZID=Europe/Berlin:20251024T193000
DTEND;TZID=Europe/Berlin:20251024T213000
DTSTAMP:20260419T190355
CREATED:20251011T145713Z
LAST-MODIFIED:20251011T145922Z
UID:6687-1761334200-1761341400@www.kirche-nettelnburg.de
SUMMARY:Adonia Teens-Konzert
DESCRIPTION:‚Forum‘ Gymnasium Allermöhe \n\n\n\nWalter-Rothenburg-Weg 41\, 21035 Hamburg-Neuallermöhe \n\n\n\n24. Oktober 2025 um 19:30 Uhr \n\n\n\nEinlass: eine Stunde vor Konzertbeginn \n\n\n\nEintritt: frei
URL:https://www.kirche-nettelnburg.de/event/adonia-teens-konzert/
CATEGORIES:Jugend Veranstaltung,Musik Veranstaltung
ATTACH;FMTTYPE=image/jpeg:https://www.kirche-nettelnburg.de/wp-content/uploads/2025/10/Adonia.jpg
END:VEVENT
BEGIN:VEVENT
DTSTART;TZID=Europe/Berlin:20251026T000000
DTEND;TZID=Europe/Berlin:20251026T235959
DTSTAMP:20260419T190355
CREATED:20251009T193247Z
LAST-MODIFIED:20251009T193523Z
UID:6602-1761436800-1761523199@www.kirche-nettelnburg.de
SUMMARY:Bücherstube
DESCRIPTION:Kaum ist der Sommer zu Ende\, sieht man wieder überall Kalender. Eine besonders schöne Auswahl gibt es in der Bücherstube. Kommen Sie gern vorbei und wählen Sie Ihre Kalender für 2026 aus. Für die Adventszeit können Sie bei uns auch wieder den „Anderen Advent“ bestellen. \n\n\n\n Von Oktober bis Dezember sind wir an folgenden Sonntagen für Sie da: \n\n\n\n\n12.10.\n\n\n\n26.10.\n\n\n\n09.11.\n\n\n\n23.11.\n\n\n\n30.11.\n\n\n\n07.12.\n\n\n\n21.12.\n\n\n\n\nAußerdem finden Sie uns beim Weihnachtsmarkt am Samstag\, den 6. Dezember im Gemeindesaal. \n\n\n\nEs freuen sich auf Sie: \n\n\n\nHeidi Beckmann & Cornelia von Gottberg
URL:https://www.kirche-nettelnburg.de/event/buecherstube-6/
CATEGORIES:Gemeindesaal
ATTACH;FMTTYPE=image/png:https://www.kirche-nettelnburg.de/wp-content/uploads/2021/03/book-2022464_640.png
END:VEVENT
BEGIN:VEVENT
DTSTART;TZID=Europe/Berlin:20251026T100000
DTEND;TZID=Europe/Berlin:20251026T100000
DTSTAMP:20260419T190355
CREATED:20251006T180954Z
LAST-MODIFIED:20251006T180956Z
UID:6531-1761472800-1761472800@www.kirche-nettelnburg.de
SUMMARY:Gottesdienst (Pastorin Maren Wichern)
DESCRIPTION:Gottesdienst
URL:https://www.kirche-nettelnburg.de/event/gottesdienst-pastorin-maren-wichern/
CATEGORIES:Gottesdienste
ATTACH;FMTTYPE=image/jpeg:https://www.kirche-nettelnburg.de/wp-content/uploads/2021/10/Gottesdienst.jpg
END:VEVENT
BEGIN:VEVENT
DTSTART;TZID=Europe/Berlin:20251031T160000
DTEND;TZID=Europe/Berlin:20251031T190000
DTSTAMP:20260419T190355
CREATED:20250619T205045Z
LAST-MODIFIED:20250619T205920Z
UID:6279-1761926400-1761937200@www.kirche-nettelnburg.de
SUMMARY:Guter Geist Party (4-12 Jahre)
DESCRIPTION:Keine Lust auf Gruseln? \n\n\n\nWichtig: Ohne Verkleidung!Dafür: Spaß\, Spannung\, Süßigkeiten! \n\n\n\nWo? In der Kirche und im Gemeindehaus. \n\n\n\nWas? Das bunte Programm besteht aus Spielen\, Basteln\, einer Geschichte von Martin Luther\, vielen Süßigkeiten und einer Party. \n\n\n\nBringe bitte mit: Eine große Tasche und eine Trinkflasche. \n\n\n\nBei Fragen sprechen Sie mich gerne an (mail)! Bitte über das Formular anmelden. \n\n\n\nEs freut sich auf euch eure Christina Mannemann und das Guter Geist Party Team. \n\n\n\n\n\n\n\n\n\n\nAnmeldung Guter Geist Party Oktober 2025\nAnmeldung Guter Geist Party Oktober 2025\n\n\n\n\n\n\n\n	Vorname des Kindes\n		*\n	\n	\n	Vorname\n	\n\n\n	Nachname des Kindes\n		*\n	\n	\n	Nachname\n	\n\n\n	Geburtsdatum des Kindes\n		\n	\n	\n	\n	\n\n\n	Besondere Krankheiten\, Allergien\, Unverträglichkeiten oder Vegetarier\n		*\n	\n	\n	\n	\n\n\n	Während des Tages sind wir zu erreichen unter:\n		\n	\n	\n	\n	\n\n\n	Hiermit gebe ich die Erlaubnis\, dass Fotos vom Bibelentdeckertag  mit meinem Kind (ohne Namen) -schutzwürdige Interessen werden beachtet-im Gemeindehaus ausgehängt werden\n		\n	\n						\n			 Ja\n					\n			 Nein\n\n	\n	\n\n\n	Mein Kind geht alleine nach Hause.\n		\n	\n	\n	\n	\n\n\n	Ich möchte die Infomail über Angebote für Kinder und Familien von der Bugenhagenkirchengemeinde Nettelnburg erhalten.\n		\n	\n						\n			 Ja\n					\n			 Nein\n\n	\n	\n\n\n	Wenn Ja\, dann bitte die Email-Adresse eintragen.\n		\n	\n	\n	\n	\n\n\n	\n\nSenden\n\n\n\n	\n			\n			\n				Falls Du menschlich bist\, lasse dieses Feld leer.
URL:https://www.kirche-nettelnburg.de/event/guter-geist-party-4-12-jahre/
CATEGORIES:Kinder Veranstaltung
ATTACH;FMTTYPE=image/png:https://www.kirche-nettelnburg.de/wp-content/uploads/2025/06/grafik.png
END:VEVENT
END:VCALENDAR