BEGIN:VCALENDAR
VERSION:2.0
PRODID:-//Evangelisch – lutherische Bugenhagen-Kirchengemeinde Nettelnburg - ECPv6.15.20//NONSGML v1.0//EN
CALSCALE:GREGORIAN
METHOD:PUBLISH
X-ORIGINAL-URL:https://www.kirche-nettelnburg.de
X-WR-CALDESC:Veranstaltungen für Evangelisch – lutherische Bugenhagen-Kirchengemeinde Nettelnburg
REFRESH-INTERVAL;VALUE=DURATION:PT1H
X-Robots-Tag:noindex
X-PUBLISHED-TTL:PT1H
BEGIN:VTIMEZONE
TZID:Europe/Berlin
BEGIN:DAYLIGHT
TZOFFSETFROM:+0100
TZOFFSETTO:+0200
TZNAME:CEST
DTSTART:20240331T010000
END:DAYLIGHT
BEGIN:STANDARD
TZOFFSETFROM:+0200
TZOFFSETTO:+0100
TZNAME:CET
DTSTART:20241027T010000
END:STANDARD
BEGIN:DAYLIGHT
TZOFFSETFROM:+0100
TZOFFSETTO:+0200
TZNAME:CEST
DTSTART:20250330T010000
END:DAYLIGHT
BEGIN:STANDARD
TZOFFSETFROM:+0200
TZOFFSETTO:+0100
TZNAME:CET
DTSTART:20251026T010000
END:STANDARD
BEGIN:DAYLIGHT
TZOFFSETFROM:+0100
TZOFFSETTO:+0200
TZNAME:CEST
DTSTART:20260329T010000
END:DAYLIGHT
BEGIN:STANDARD
TZOFFSETFROM:+0200
TZOFFSETTO:+0100
TZNAME:CET
DTSTART:20261025T010000
END:STANDARD
END:VTIMEZONE
BEGIN:VEVENT
DTSTART;TZID=Europe/Berlin:20251102T100000
DTEND;TZID=Europe/Berlin:20251102T100000
DTSTAMP:20260419T172506
CREATED:20251006T181902Z
LAST-MODIFIED:20251006T181930Z
UID:6533-1762077600-1762077600@www.kirche-nettelnburg.de
SUMMARY:Andacht (Bernd Burmeister)
DESCRIPTION:Gottesdienst Andacht mit Bernd Burmeister
URL:https://www.kirche-nettelnburg.de/event/andacht-bern-burmeister/
CATEGORIES:Gottesdienste
ATTACH;FMTTYPE=image/jpeg:https://www.kirche-nettelnburg.de/wp-content/uploads/2021/10/Gottesdienst.jpg
END:VEVENT
BEGIN:VEVENT
DTSTART;TZID=Europe/Berlin:20251103T150000
DTEND;TZID=Europe/Berlin:20251103T170000
DTSTAMP:20260419T172506
CREATED:20251009T190710Z
LAST-MODIFIED:20251010T210708Z
UID:6590-1762182000-1762189200@www.kirche-nettelnburg.de
SUMMARY:Seniorenkreis "Feierabend": Sonne\, Mond und Sterne
DESCRIPTION:Das Weltall ist voller Wunder. Schon ein Blick in den nächtlichen Sternenhimmel läßt uns staunen über die Vielzahl der Sterne. Noch mehr staunen wir über Bilder\, die uns die Wissenschaft aus den Tiefen des Universums zeigt. Kommen Sie mit uns auf eine kleine Reise in die Sternenwelt. \n\n\n\nCarola Jürs (0 40 – 735 54 24) / Monica Burmeister (0 40 – 735 44 47) \n\n\n\n \n\n\n\n \n\n\n\nDas Team des Feierabendkreises: Monica Burmeister und Carola Jürs
URL:https://www.kirche-nettelnburg.de/event/seniorenkreis-feierabend-sonne-mond-und-sterne/
CATEGORIES:Gemeindesaal,Senioren Veranstaltung
ATTACH;FMTTYPE=image/jpeg:https://www.kirche-nettelnburg.de/wp-content/uploads/2022/06/Seniorenkreis-„Feierabend-scaled.jpg
END:VEVENT
BEGIN:VEVENT
DTSTART;TZID=Europe/Berlin:20251106T193000
DTEND;TZID=Europe/Berlin:20251106T193000
DTSTAMP:20260419T172506
CREATED:20251104T134532Z
LAST-MODIFIED:20251104T134533Z
UID:6773-1762457400-1762457400@www.kirche-nettelnburg.de
SUMMARY:Zukunftsabend
DESCRIPTION:
URL:https://www.kirche-nettelnburg.de/event/zukunftsabend/
CATEGORIES:Erwachsenen Veranstaltung,Familien Veranstaltung,Gemeindesaal,Jugend Veranstaltung
ATTACH;FMTTYPE=image/jpeg:https://www.kirche-nettelnburg.de/wp-content/uploads/2025/11/zukunftsabend.jpg
END:VEVENT
BEGIN:VEVENT
DTSTART;TZID=Europe/Berlin:20251107T190000
DTEND;TZID=Europe/Berlin:20251107T190000
DTSTAMP:20260419T172506
CREATED:20250911T134227Z
LAST-MODIFIED:20250911T134229Z
UID:6466-1762542000-1762542000@www.kirche-nettelnburg.de
SUMMARY:Lobpreis
DESCRIPTION:Wir feiern einen Lobpreisabend. Miteinander singen\, zu beten und Gedanken zu teilen. Grundsätzlich immer am ersten Freitag im Monat\, aber manchmal verschieben wir es auch. \n\n\n\nEs ist Freitag\, die Woche war anstrengend\, voll\, stressig. Das Wochenende steht vor der Tür und auch da steht einiges an. Ich bin erschöpft\, ich brauche Ruhe\, eine Tankstelle\, wo ich gestärkt werde. Und dann fällt mir ein\, es ist ja der erste Freitag im Monat – Lobpreisabend!  \n\n\n\nDer Ort\, die Zeit\, die Musik\, wo ich auftanken kann. In den Liedern finde ich Antworten\, Zuspruch\, Trost\, Zuversicht und Kraft\, und immer wieder die Zusage\, ich bin nicht alleine. Gott sieht meine Sorgen\, meinen Stress\, meine Erschöpfung\, und er schenkt mir in dieser Zeit\, in dieser Runde eine Ruheoase. Ich komme zur Ruhe\, mein Herzschlag wird langsamer\, die Gedanken hören auf zu kreisen\, ich kann loslassen. Und er lässt mich erkennen\, wie gut ich es doch habe\, wie dankbar ich eigentlich sein kann. \n\n\n\nSuchst du auch so einen Ort? Dann komm doch mal vorbei und teste aus\, ob es bei dir auch so gut wirkt. Wir treffen uns jeden ersten Freitag im Monat um 19 Uhr für ca. eine Stunde in der Kirche. Gemeinsam singen wir in einer ruhigen\, schönen Atmosphäre viele Lobpreislieder\, und ein kleiner geistiger Input rundet den Lobpreisabend ab. Im Anschluss gibt es immer noch etwas Leckeres zu essen und zu trinken\, sodass der Abend bei einem geselligen Schnack enden kann. Danach gehe ich immer beflügelt und befreit nach Haus\, und die nächsten Herausforderungen können kommen. Das alles in dem Wissen\, dass ich behütet\, getragen und frei bin\, so dass meine Seele singen kann. \n\n\n\nHerzliche Einladung! \n\n\n\nKerstin Heide für das Lobpreisteam
URL:https://www.kirche-nettelnburg.de/event/lobpreis-27/
CATEGORIES:Gottesdienste,Musik Veranstaltung
ATTACH;FMTTYPE=image/png:https://www.kirche-nettelnburg.de/wp-content/uploads/2022/10/Lobpreis.png
END:VEVENT
BEGIN:VEVENT
DTSTART;TZID=Europe/Berlin:20251108T090000
DTEND;TZID=Europe/Berlin:20251108T130000
DTSTAMP:20260419T172506
CREATED:20230912T115545Z
LAST-MODIFIED:20251015T101735Z
UID:4573-1762592400-1762606800@www.kirche-nettelnburg.de
SUMMARY:Haus und Hoftag
DESCRIPTION:Am 08.11.2025 von 9:00 bis 13:00 Uhr findet der nächste Haus- und Hoftag statt. Für Verpflegung wird gesorgt. Diesmal geht es darum\, die Hecken auf dem Kirchengelände zu schneiden. Wenn möglich bitte Arbeitshandschuhe und einen guten Astschneider mitbringen. Es wäre schön\, wenn viele aus der Gemeinde unterstützen können.  \n\n\n\nBitte bei Clauspeter Seeck (c.seeck@kirche-nettelnburg.de) anmelden.Ingo Jordan\, KGR-Vorsitzender \n\n\n\nHelfende Hände und Motivation sind sehr willkommen. Zur Stärkung gibt es Kaffee und Franzbrötchen.
URL:https://www.kirche-nettelnburg.de/event/haus-und-hoftag/
CATEGORIES:Erwachsenen Veranstaltung,Familien Veranstaltung
ATTACH;FMTTYPE=image/png:https://www.kirche-nettelnburg.de/wp-content/uploads/2023/09/gartenarbeit.png
END:VEVENT
BEGIN:VEVENT
DTSTART;TZID=Europe/Berlin:20251108T180000
DTEND;TZID=Europe/Berlin:20251108T210000
DTSTAMP:20260419T172506
CREATED:20251009T211822Z
LAST-MODIFIED:20251009T211824Z
UID:6669-1762624800-1762635600@www.kirche-nettelnburg.de
SUMMARY:Karaoke Abend
DESCRIPTION:
URL:https://www.kirche-nettelnburg.de/event/karaoke-abend/
CATEGORIES:Jugend Veranstaltung
ATTACH;FMTTYPE=image/png:https://www.kirche-nettelnburg.de/wp-content/uploads/2025/10/Bildschirmfoto-2025-10-09-um-23.05.32.png
END:VEVENT
BEGIN:VEVENT
DTSTART;TZID=Europe/Berlin:20251109T000000
DTEND;TZID=Europe/Berlin:20251109T235959
DTSTAMP:20260419T172506
CREATED:20251009T193425Z
LAST-MODIFIED:20251009T193426Z
UID:6604-1762646400-1762732799@www.kirche-nettelnburg.de
SUMMARY:Bücherstube
DESCRIPTION:Kaum ist der Sommer zu Ende\, sieht man wieder überall Kalender. Eine besonders schöne Auswahl gibt es in der Bücherstube. Kommen Sie gern vorbei und wählen Sie Ihre Kalender für 2026 aus. Für die Adventszeit können Sie bei uns auch wieder den „Anderen Advent“ bestellen. \n\n\n\n Von Oktober bis Dezember sind wir an folgenden Sonntagen für Sie da: \n\n\n\n\n12.10.\n\n\n\n26.10.\n\n\n\n09.11.\n\n\n\n23.11.\n\n\n\n30.11.\n\n\n\n07.12.\n\n\n\n21.12.\n\n\n\n\nAußerdem finden Sie uns beim Weihnachtsmarkt am Samstag\, den 6. Dezember im Gemeindesaal. \n\n\n\nEs freuen sich auf Sie: \n\n\n\nHeidi Beckmann & Cornelia von Gottberg
URL:https://www.kirche-nettelnburg.de/event/buecherstube-7/
CATEGORIES:Gemeindesaal
ATTACH;FMTTYPE=image/png:https://www.kirche-nettelnburg.de/wp-content/uploads/2021/03/book-2022464_640.png
END:VEVENT
BEGIN:VEVENT
DTSTART;TZID=Europe/Berlin:20251109T110000
DTEND;TZID=Europe/Berlin:20251109T110000
DTSTAMP:20260419T172506
CREATED:20251006T182252Z
LAST-MODIFIED:20251006T182254Z
UID:6536-1762686000-1762686000@www.kirche-nettelnburg.de
SUMMARY:Brunch-Gottesdienst (Pastorin Gwen Bryde)
DESCRIPTION:Brunch-Gottesdienst mit Mitbring-Buffet \n\n\n\nPastorin Gwen Bryde & Team
URL:https://www.kirche-nettelnburg.de/event/brunch-gottesdienst-pastorin-gwen-bryde/
CATEGORIES:Gottesdienste
ATTACH;FMTTYPE=image/jpeg:https://www.kirche-nettelnburg.de/wp-content/uploads/2021/10/Gottesdienst.jpg
END:VEVENT
BEGIN:VEVENT
DTSTART;TZID=Europe/Berlin:20251111T173000
DTEND;TZID=Europe/Berlin:20251111T183000
DTSTAMP:20260419T172506
CREATED:20251009T195500Z
LAST-MODIFIED:20251009T195505Z
UID:6619-1762882200-1762885800@www.kirche-nettelnburg.de
SUMMARY:Nudelkirche
DESCRIPTION:
URL:https://www.kirche-nettelnburg.de/event/nudelkirche-11/
CATEGORIES:Familien Veranstaltung,Gemeindesaal,Jugend Veranstaltung,Kinder Veranstaltung
ATTACH;FMTTYPE=image/png:https://www.kirche-nettelnburg.de/wp-content/uploads/2025/07/Bildschirmfoto-2025-07-17-um-18.30.37.png
END:VEVENT
BEGIN:VEVENT
DTSTART;TZID=Europe/Berlin:20251113T160000
DTEND;TZID=Europe/Berlin:20251113T173000
DTSTAMP:20260419T172506
CREATED:20251009T200816Z
LAST-MODIFIED:20251009T200818Z
UID:6629-1763049600-1763055000@www.kirche-nettelnburg.de
SUMMARY:Kinderkino & Elterncafé
DESCRIPTION:Liebe Familien! \n\n\n\nHerzliche Einladung zum Kinderkino mit parallelem Eltern-Café. Beide Veranstaltungen sind ein Highlight für sich. \n\n\n\nWährend im Gemeindesaal eine riesige Leinwand und dicker Sound auf die Kinder warten\, erwarten euch Eltern im Café Heißgetränke wie Cappuccino oder Tee.
URL:https://www.kirche-nettelnburg.de/event/kinderkino-elterncafe-2/
CATEGORIES:Familien Veranstaltung,Gemeindesaal,Jugend Veranstaltung,Kinder Veranstaltung
ATTACH;FMTTYPE=image/png:https://www.kirche-nettelnburg.de/wp-content/uploads/2025/10/Bildschirmfoto-2025-10-09-um-22.05.06.png
END:VEVENT
BEGIN:VEVENT
DTSTART;TZID=Europe/Berlin:20251114T193000
DTEND;TZID=Europe/Berlin:20251114T220000
DTSTAMP:20260419T172506
CREATED:20230207T190009Z
LAST-MODIFIED:20251107T164913Z
UID:3998-1763148600-1763157600@www.kirche-nettelnburg.de
SUMMARY:Filmabend im Kirchspiel Bergedorf
DESCRIPTION:Du möchtest gern Filme gucken\, aber nicht allein? Dann bist Du hier genau richtig! Einmal im Monat freitags (meistens am 3. Freitag) um 19:30 Uhr gibt es das Angebot im neuen Gemeindesaal der Bugenhagenkirche Nettelnburg über den Beamer einen Film anzusehen. Und das Tollste ist – Du kannst selber mitbestimmen\, welcher Film gezeigt wird.  \n\n\n\n\n\n\n\nEs gibt pro Monat zwei Filme zur Auswahl (rechtzeitig vor dem Termin auf der Homepage eingestellt). Der Film mit den meisten Stimmen wird gezeigt. \n\n\n\n\nNowhere Special ( 2020)  Seit er von seiner Freundin sechs Monate nach der Geburt ihres gemeinsamen Sohnes verlassen wurde\, hat der 34-jährige Fensterputzer John sein Leben völlig auf die Erziehung seines Sohnes ausgerichtet. Er kann ihm jedoch nur ein bescheidenes Leben in Belfast bieten.Als John erfährt\, dass er nur noch wenige Monate zu leben hat\, versucht er\, eine neue\, perfekte Familie für den Vierjährigen Michael zu finden. Trailer auf Youtube\n\n\n\nDas Leben der Anderen (2006) m Ost-Berlin des Jahres 1984 wird der Stasi-Hauptmann Gerd Wiesler (Kürzel HGW XX/7) auf eigenen Vorschlag damit beauftragt\, in einem „OV“ (kurz für Operativer Vorgang im MfS-Jargon) belastendes Material gegen den Theaterschriftsteller Georg Dreyman zu sammeln. Kulturminister Bruno Hempf hält den als „Staatsschriftsteller“ gefeierten Dramatiker für beobachtenswert und Wiesler teilt dessen Meinung\, dass Dreyman vielleicht nicht so linientreu ist\, wie er sich gibt. Wiesler „verwanzt“ mit einem Trupp der Stasi die Wohnung\, in der Dreyman mit seiner Lebensgefährtin\, der unpolitischen Schauspielerin Christa-Maria Sieland\, lebt. Auf dem Dachboden des Hauses richtet Wiesler eine Abhörstation ein…Trailer auf Youtube\n\n\n\n\n \n\n\n\n \n\n\n\n							Umfrage beendet Anonym abstimmen!Mit Wordpress Account abstimmen!Welcher Film soll diesmal gezeigt werden?2. Gott existiert\, ihr Name ist Petrunya1. Die ErscheinungDie IP Adresse wird für die Umfrage gespeichert und ein Cookie wird gesetzt damit nur einmal abgestimmt werden kann.10 AbstimmungenAbstimmenErgebnisse×Username or Email AddressPasswortLog InNo account? Register here Passwort vergessen \n						\n\n\n\nWir freuen uns auf Sie:Michaela Ahlers (Bugenhagen)\, Silke Detlefs (St. Michael)
URL:https://www.kirche-nettelnburg.de/event/filme-gucken-im-kirchspiel-bergedorf-2/
ATTACH;FMTTYPE=image/png:https://www.kirche-nettelnburg.de/wp-content/uploads/2023/02/Film-kino.png
END:VEVENT
BEGIN:VEVENT
DTSTART;TZID=Europe/Berlin:20251116T100000
DTEND;TZID=Europe/Berlin:20251116T100000
DTSTAMP:20260419T172506
CREATED:20251006T182659Z
LAST-MODIFIED:20251013T192526Z
UID:6538-1763287200-1763287200@www.kirche-nettelnburg.de
SUMMARY:Kirche Kunterbunt - Gottesdienst (Daniel Perner)
DESCRIPTION:Gottesdienst für die ganze Familie  \n\n\n\nGemeindepädagoge Daniel Perner & Team
URL:https://www.kirche-nettelnburg.de/event/kirche-kunterbunt-gottesdienst-daniel-perner/
CATEGORIES:Familien Veranstaltung,Gottesdienste,Jugend Veranstaltung,Kinder Veranstaltung
ATTACH;FMTTYPE=image/png:https://www.kirche-nettelnburg.de/wp-content/uploads/2024/02/Kirche-Kunterbunt-Logo.png
END:VEVENT
BEGIN:VEVENT
DTSTART;TZID=Europe/Berlin:20251117T150000
DTEND;TZID=Europe/Berlin:20251117T170000
DTSTAMP:20260419T172506
CREATED:20251009T191044Z
LAST-MODIFIED:20251028T212513Z
UID:6592-1763391600-1763398800@www.kirche-nettelnburg.de
SUMMARY:Seniorenkreis "Feierabend": Filmnachmittag
DESCRIPTION:In geselliger Runde schauen wir einen Film. \n\n\n\nCarola Jürs (0 40 – 735 54 24) / Monica Burmeister (0 40 – 735 44 47) \n\n\n\nWir freuen uns auf viele Gäste! \n\n\n\nDas Team des Feierabendkreises: Monica Burmeister und Carola Jürs
URL:https://www.kirche-nettelnburg.de/event/seniorenkreis-feierabend-filmnachmittag-2/
CATEGORIES:Gemeindesaal,Senioren Veranstaltung
ATTACH;FMTTYPE=image/jpeg:https://www.kirche-nettelnburg.de/wp-content/uploads/2022/06/Seniorenkreis-„Feierabend-scaled.jpg
END:VEVENT
BEGIN:VEVENT
DTSTART;TZID=Europe/Berlin:20251119T180000
DTEND;TZID=Europe/Berlin:20251119T180000
DTSTAMP:20260419T172506
CREATED:20251006T182945Z
LAST-MODIFIED:20251117T113408Z
UID:6540-1763575200-1763575200@www.kirche-nettelnburg.de
SUMMARY:Buss- und Bettag
DESCRIPTION:Kirchspiel-Gottesdienst mit allgemeiner Beichte \n\n\n\nPastorin Gwen Bryde und Pastor Baldenius \n\n\n\nGedanken zum Buß- und Bettgag
URL:https://www.kirche-nettelnburg.de/event/kirchenspiel-gottesdienst-pastorin-gwen-bryde/
CATEGORIES:Gottesdienste
ATTACH;FMTTYPE=image/jpeg:https://www.kirche-nettelnburg.de/wp-content/uploads/2025/10/Nicht-gut-genug.jpeg
END:VEVENT
BEGIN:VEVENT
DTSTART;TZID=Europe/Berlin:20251122T090000
DTEND;TZID=Europe/Berlin:20251122T113000
DTSTAMP:20260419T172506
CREATED:20230926T175513Z
LAST-MODIFIED:20251015T101029Z
UID:4614-1763802000-1763811000@www.kirche-nettelnburg.de
SUMMARY:Frauenfrühstück
DESCRIPTION:Einladung zum Frauenfrühstück  \n\n\n\nWir feiern 30jähriges JubiläumVor mehr als dreißig Jahren fand am 21. Januar 1995 zum ersten Mal ein Frauenfrühstück im Gemeindesaal der Bugenhagengemeinde statt. Damals war Hanna Ahrens die Referentin und etwas über einhundert Frauen waren zu Gast\, die sich auf folgende Einladung hin eingefunden hatten: „Sind sie Single\, Mutter\, Großmutter\, Hausfrau oder Berufstätige? Sie haben schon einmal den Wunsch gehabt\, sich an einen gedeckten Tisch zusetzen und bei einem Frühstück mit anderen Frauen zu klönen\,Spass zu haben und einen mitreißenden Vortrag einer interessanten Frau zu hören? Dann sind Sie gemeint!“Dieselbe Einladung gilt in diesem Jahr auch zum 43. Frauenfrühstückstreffen in der Bugenhagengemeinde. Es findet statt am22. November 2025 von 9:00 bis 11:30 Uhrim Gemeindesaal der Bugenhagenkirche(Nettelnburger Kirchenweg 4)Neben einem besonderen Frühstück erwartet Sie ein Vortrag von Carolin Goydke mit dem Thema„Zukunft gestalten:Frauen im Ehrenamt zwischen Verantwortung und Vision.“sowie ein Rückblick und Zeit für Erinnerungen an das eine oder andere Frauenfrühstück. Bitte melden Sie sich bis zum 19. November unter:► anmeldung@kirche-nettelnburg oder telefonisch unter 0 176 – 21 95 38 47(Dagmar Peitzner) an. Um unsere Kosten zu bestreiten\, erbitten wir einen Beitrag von 10\,– Euro. Wir freuen uns darauf mit Ihnen zu feiern!Dagmar Peitzner für das Frauenfrühstücksteam
URL:https://www.kirche-nettelnburg.de/event/frauenfruehstueck-3/
CATEGORIES:Erwachsenen Veranstaltung,Gemeindesaal
ATTACH;FMTTYPE=image/png:https://www.kirche-nettelnburg.de/wp-content/uploads/2023/09/taskaf.png
END:VEVENT
BEGIN:VEVENT
DTSTART;TZID=Europe/Berlin:20251123T000000
DTEND;TZID=Europe/Berlin:20251123T235959
DTSTAMP:20260419T172506
CREATED:20251009T193759Z
LAST-MODIFIED:20251009T193800Z
UID:6608-1763856000-1763942399@www.kirche-nettelnburg.de
SUMMARY:Bücherstube
DESCRIPTION:Kaum ist der Sommer zu Ende\, sieht man wieder überall Kalender. Eine besonders schöne Auswahl gibt es in der Bücherstube. Kommen Sie gern vorbei und wählen Sie Ihre Kalender für 2026 aus. Für die Adventszeit können Sie bei uns auch wieder den „Anderen Advent“ bestellen. \n\n\n\n Von Oktober bis Dezember sind wir an folgenden Sonntagen für Sie da: \n\n\n\n\n12.10.\n\n\n\n26.10.\n\n\n\n09.11.\n\n\n\n23.11.\n\n\n\n30.11.\n\n\n\n07.12.\n\n\n\n21.12.\n\n\n\n\nAußerdem finden Sie uns beim Weihnachtsmarkt am Samstag\, den 6. Dezember im Gemeindesaal. \n\n\n\nEs freuen sich auf Sie: \n\n\n\nHeidi Beckmann & Cornelia von Gottberg
URL:https://www.kirche-nettelnburg.de/event/buecherstube-8/
CATEGORIES:Gemeindesaal
ATTACH;FMTTYPE=image/png:https://www.kirche-nettelnburg.de/wp-content/uploads/2021/03/book-2022464_640.png
END:VEVENT
BEGIN:VEVENT
DTSTART;TZID=Europe/Berlin:20251123T100000
DTEND;TZID=Europe/Berlin:20251123T100000
DTSTAMP:20260419T172506
CREATED:20251006T183220Z
LAST-MODIFIED:20251006T183222Z
UID:6542-1763892000-1763892000@www.kirche-nettelnburg.de
SUMMARY:Gottesdienst mit Abendmahl (Pastorin Gwen Bryde)
DESCRIPTION:Gottesdienst mit Gedenken an die Verstorbenen aus dem ausklingenden Kirchenjahr mit Abendmahl und Chor
URL:https://www.kirche-nettelnburg.de/event/gottesdienst-mit-abendmahl-pastorin-gwen-bryde/
CATEGORIES:Gottesdienste
ATTACH;FMTTYPE=image/jpeg:https://www.kirche-nettelnburg.de/wp-content/uploads/2021/10/Gottesdienst-mit-Abendmahl.jpg
END:VEVENT
BEGIN:VEVENT
DTSTART;TZID=Europe/Berlin:20251127T190000
DTEND;TZID=Europe/Berlin:20251127T190000
DTSTAMP:20260419T172506
CREATED:20250717T151725Z
LAST-MODIFIED:20251118T213006Z
UID:6375-1764270000-1764270000@www.kirche-nettelnburg.de
SUMMARY:Bibelabend
DESCRIPTION:In der Reihe „Schwarzbrotbibelabende“ laden wir ein für Donnerstagabend\, 27. November 2025\, 19:00 Uhr\, zu einem Abend mit Jurek Schulz.  \n\n\n\nSein Thema lautet: Jesus Christus im Tanach\, der Hebräischen Bibel\, unserem Alten Testament.  \n\n\n\nOrt: Saal der Bugenhagengemeinde Nettelnburg\, Nettelnburger Kirchenweg 4 \n\n\n\nWir beginnen um 19:00 mit einer offenen Eingangsphase mit Getränken und Schwarzbrot-Häppchen und der Möglichkeit zum Gespräch miteinander und starten pünktlich um 19:30 Uhr mit dem Thema. Jurek Schulz ist zurzeit wieder in Israel und kann frische Eindrücke mitbringen. \n\n\n\nDie Hauskreise laden ein  –  Alle aus der Gemeinde (und darüber hinaus) sind willkommen.  –  Gern auch an Interessierte weiterleiten. \n\n\n\nMartin Reesch
URL:https://www.kirche-nettelnburg.de/event/bibelabend-2/
CATEGORIES:Erwachsenen Veranstaltung
ATTACH;FMTTYPE=image/png:https://www.kirche-nettelnburg.de/wp-content/uploads/2024/12/Bibel-Gottesdienst-Lektionar.png
END:VEVENT
BEGIN:VEVENT
DTSTART;TZID=Europe/Berlin:20251130T000000
DTEND;TZID=Europe/Berlin:20251130T235959
DTSTAMP:20260419T172506
CREATED:20251009T193936Z
LAST-MODIFIED:20251127T154939Z
UID:6610-1764460800-1764547199@www.kirche-nettelnburg.de
SUMMARY:Bücherstube
DESCRIPTION:Kaum ist der Sommer zu Ende\, sieht man wieder überall Kalender. Eine besonders schöne Auswahl gibt es in der Bücherstube. Kommen Sie gern vorbei und wählen Sie Ihre Kalender für 2026 aus. Für die Adventszeit können Sie bei uns auch wieder den „Anderen Advent“ bestellen. \n\n\n\n Von Oktober bis Dezember sind wir an folgenden Sonntagen für Sie da: \n\n\n\n\n12.10.\n\n\n\n26.10.\n\n\n\n09.11.\n\n\n\n23.11.\n\n\n\n30.11.\n\n\n\n07.12.\n\n\n\n21.12.\n\n\n\n\nAußerdem finden Sie uns beim Weihnachtsmarkt am Samstag\, den 6. Dezember im Gemeindesaal. \n\n\n\nEs freuen sich auf Sie: \n\n\n\nHeidi Beckmann
URL:https://www.kirche-nettelnburg.de/event/buecherstube-9/
ATTACH;FMTTYPE=image/png:https://www.kirche-nettelnburg.de/wp-content/uploads/2021/03/book-2022464_640.png
END:VEVENT
BEGIN:VEVENT
DTSTART;TZID=Europe/Berlin:20251130T100000
DTEND;TZID=Europe/Berlin:20251130T100000
DTSTAMP:20260419T172506
CREATED:20251006T183422Z
LAST-MODIFIED:20251006T183423Z
UID:6544-1764496800-1764496800@www.kirche-nettelnburg.de
SUMMARY:Familiengottesdienst (Pastorin Gwen Bryde)
DESCRIPTION:Familiengottesdienst  \n\n\n\nPastorin Gwen Bryde & Team
URL:https://www.kirche-nettelnburg.de/event/familiengottesdienst-pastorin-gwen-bryde/
CATEGORIES:Gottesdienste
ATTACH;FMTTYPE=image/jpeg:https://www.kirche-nettelnburg.de/wp-content/uploads/2021/10/Gottesdienst.jpg
END:VEVENT
END:VCALENDAR