BEGIN:VCALENDAR
VERSION:2.0
PRODID:-//Evangelisch – lutherische Bugenhagen-Kirchengemeinde Nettelnburg - ECPv6.15.20//NONSGML v1.0//EN
CALSCALE:GREGORIAN
METHOD:PUBLISH
X-WR-CALNAME:Evangelisch – lutherische Bugenhagen-Kirchengemeinde Nettelnburg
X-ORIGINAL-URL:https://www.kirche-nettelnburg.de
X-WR-CALDESC:Veranstaltungen für Evangelisch – lutherische Bugenhagen-Kirchengemeinde Nettelnburg
REFRESH-INTERVAL;VALUE=DURATION:PT1H
X-Robots-Tag:noindex
X-PUBLISHED-TTL:PT1H
BEGIN:VTIMEZONE
TZID:Europe/Berlin
BEGIN:DAYLIGHT
TZOFFSETFROM:+0100
TZOFFSETTO:+0200
TZNAME:CEST
DTSTART:20240331T010000
END:DAYLIGHT
BEGIN:STANDARD
TZOFFSETFROM:+0200
TZOFFSETTO:+0100
TZNAME:CET
DTSTART:20241027T010000
END:STANDARD
BEGIN:DAYLIGHT
TZOFFSETFROM:+0100
TZOFFSETTO:+0200
TZNAME:CEST
DTSTART:20250330T010000
END:DAYLIGHT
BEGIN:STANDARD
TZOFFSETFROM:+0200
TZOFFSETTO:+0100
TZNAME:CET
DTSTART:20251026T010000
END:STANDARD
BEGIN:DAYLIGHT
TZOFFSETFROM:+0100
TZOFFSETTO:+0200
TZNAME:CEST
DTSTART:20260329T010000
END:DAYLIGHT
BEGIN:STANDARD
TZOFFSETFROM:+0200
TZOFFSETTO:+0100
TZNAME:CET
DTSTART:20261025T010000
END:STANDARD
END:VTIMEZONE
BEGIN:VEVENT
DTSTART;TZID=Europe/Berlin:20251201T150000
DTEND;TZID=Europe/Berlin:20251201T170000
DTSTAMP:20260419T154017
CREATED:20251009T191421Z
LAST-MODIFIED:20251010T210754Z
UID:6594-1764601200-1764608400@www.kirche-nettelnburg.de
SUMMARY:Seniorenkreis "Feierabend": Advents- u. Weihnachtsbräuche in Europa und anderen Ländern
DESCRIPTION:Jedes Land hat eigene Traditionen und Bräuche. Sie wollen auf unterschiedliche Weise zeigen\, was die Liebe Gottes\, die in seiner Menschwerdung zum Ausdruck kommt\, für unser Leben bedeutet. \n\n\n\nCarola Jürs (0 40 – 735 54 24) / Monica Burmeister (0 40 – 735 44 47) \n\n\n\n \n\n\n\n \n\n\n\nDas Team des Feierabendkreises: Monica Burmeister und Carola Jürs
URL:https://www.kirche-nettelnburg.de/event/seniorenkreis-feierabend-advents-u-weihnachtsbraeuche-in-europa-und-anderen-laendern/
CATEGORIES:Gemeindesaal,Senioren Veranstaltung
ATTACH;FMTTYPE=image/jpeg:https://www.kirche-nettelnburg.de/wp-content/uploads/2022/06/Seniorenkreis-„Feierabend-scaled.jpg
END:VEVENT
BEGIN:VEVENT
DTSTART;TZID=Europe/Berlin:20251205T190000
DTEND;TZID=Europe/Berlin:20251205T190000
DTSTAMP:20260419T154017
CREATED:20250911T134330Z
LAST-MODIFIED:20250911T134332Z
UID:6468-1764961200-1764961200@www.kirche-nettelnburg.de
SUMMARY:Lobpreis
DESCRIPTION:Wir feiern einen Lobpreisabend. Miteinander singen\, zu beten und Gedanken zu teilen. Grundsätzlich immer am ersten Freitag im Monat\, aber manchmal verschieben wir es auch. \n\n\n\nEs ist Freitag\, die Woche war anstrengend\, voll\, stressig. Das Wochenende steht vor der Tür und auch da steht einiges an. Ich bin erschöpft\, ich brauche Ruhe\, eine Tankstelle\, wo ich gestärkt werde. Und dann fällt mir ein\, es ist ja der erste Freitag im Monat – Lobpreisabend!  \n\n\n\nDer Ort\, die Zeit\, die Musik\, wo ich auftanken kann. In den Liedern finde ich Antworten\, Zuspruch\, Trost\, Zuversicht und Kraft\, und immer wieder die Zusage\, ich bin nicht alleine. Gott sieht meine Sorgen\, meinen Stress\, meine Erschöpfung\, und er schenkt mir in dieser Zeit\, in dieser Runde eine Ruheoase. Ich komme zur Ruhe\, mein Herzschlag wird langsamer\, die Gedanken hören auf zu kreisen\, ich kann loslassen. Und er lässt mich erkennen\, wie gut ich es doch habe\, wie dankbar ich eigentlich sein kann. \n\n\n\nSuchst du auch so einen Ort? Dann komm doch mal vorbei und teste aus\, ob es bei dir auch so gut wirkt. Wir treffen uns jeden ersten Freitag im Monat um 19 Uhr für ca. eine Stunde in der Kirche. Gemeinsam singen wir in einer ruhigen\, schönen Atmosphäre viele Lobpreislieder\, und ein kleiner geistiger Input rundet den Lobpreisabend ab. Im Anschluss gibt es immer noch etwas Leckeres zu essen und zu trinken\, sodass der Abend bei einem geselligen Schnack enden kann. Danach gehe ich immer beflügelt und befreit nach Haus\, und die nächsten Herausforderungen können kommen. Das alles in dem Wissen\, dass ich behütet\, getragen und frei bin\, so dass meine Seele singen kann. \n\n\n\nHerzliche Einladung! \n\n\n\nKerstin Heide für das Lobpreisteam
URL:https://www.kirche-nettelnburg.de/event/lobpreis-28/
CATEGORIES:Gottesdienste,Musik Veranstaltung
ATTACH;FMTTYPE=image/png:https://www.kirche-nettelnburg.de/wp-content/uploads/2022/10/Lobpreis.png
END:VEVENT
BEGIN:VEVENT
DTSTART;TZID=Europe/Berlin:20251206T170000
DTEND;TZID=Europe/Berlin:20251206T170000
DTSTAMP:20260419T154017
CREATED:20251006T183908Z
LAST-MODIFIED:20251116T181733Z
UID:6546-1765040400-1765040400@www.kirche-nettelnburg.de
SUMMARY:Lieder und Geschichten (Pastorin Gwen Bryde)
DESCRIPTION:Lieder und Geschichten zum Advent mit dem Projektchor \n\n\n\nPastorin Gwen Bryde
URL:https://www.kirche-nettelnburg.de/event/gottesdienst-pastorin-gwen-bryde/
CATEGORIES:Gottesdienste
ATTACH;FMTTYPE=image/jpeg:https://www.kirche-nettelnburg.de/wp-content/uploads/2021/10/Gottesdienst.jpg
END:VEVENT
BEGIN:VEVENT
DTSTART;TZID=Europe/Berlin:20251207T000000
DTEND;TZID=Europe/Berlin:20251207T235959
DTSTAMP:20260419T154017
CREATED:20251009T194125Z
LAST-MODIFIED:20251127T155024Z
UID:6612-1765065600-1765151999@www.kirche-nettelnburg.de
SUMMARY:Bücherstube
DESCRIPTION:Kaum ist der Sommer zu Ende\, sieht man wieder überall Kalender. Eine besonders schöne Auswahl gibt es in der Bücherstube. Kommen Sie gern vorbei und wählen Sie Ihre Kalender für 2026 aus. Für die Adventszeit können Sie bei uns auch wieder den „Anderen Advent“ bestellen. \n\n\n\n Von Oktober bis Dezember sind wir an folgenden Sonntagen für Sie da: \n\n\n\n\n12.10.\n\n\n\n26.10.\n\n\n\n09.11.\n\n\n\n23.11.\n\n\n\n30.11.\n\n\n\n07.12.\n\n\n\n21.12.\n\n\n\n\nAußerdem finden Sie uns beim Weihnachtsmarkt am Samstag\, den 6. Dezember im Gemeindesaal. \n\n\n\nEs freuen sich auf Sie: \n\n\n\nHeidi Beckmann
URL:https://www.kirche-nettelnburg.de/event/buecherstube-10/
CATEGORIES:Gemeindesaal
ATTACH;FMTTYPE=image/png:https://www.kirche-nettelnburg.de/wp-content/uploads/2021/03/book-2022464_640.png
END:VEVENT
BEGIN:VEVENT
DTSTART;TZID=Europe/Berlin:20251207T100000
DTEND;TZID=Europe/Berlin:20251207T100000
DTSTAMP:20260419T154017
CREATED:20250911T133536Z
LAST-MODIFIED:20250922T195016Z
UID:6462-1765101600-1765101600@www.kirche-nettelnburg.de
SUMMARY:Gemeinsames Gebet
DESCRIPTION:Wir laden ein zum gemeinsamen Gebet: Am 5. Oktober und 7. Dezember um 10.00 Uhr in der Kirche. \n\n\n\nWir werden miteinander singen\, loben\, danken\, bitten und über einen Bibeltext sprechen. \n\n\n\nWir freuen uns auf Dich/auf Sie! \n\n\n\nPetra Klampe und Sylvia Koeppe
URL:https://www.kirche-nettelnburg.de/event/gemeinsames-gebet-12/
CATEGORIES:Gottesdienste
ATTACH;FMTTYPE=image/jpeg:https://www.kirche-nettelnburg.de/wp-content/uploads/2024/12/DSC_0200-Uwe-Foto--scaled.jpeg
END:VEVENT
BEGIN:VEVENT
DTSTART;TZID=Europe/Berlin:20251212T193000
DTEND;TZID=Europe/Berlin:20251212T193000
DTSTAMP:20260419T154017
CREATED:20251009T204347Z
LAST-MODIFIED:20251207T172957Z
UID:6652-1765567800-1765567800@www.kirche-nettelnburg.de
SUMMARY:Filmabend
DESCRIPTION:Du möchtest gern Filme gucken\, aber nicht allein? Dann bist Du hier genau richtig! Einmal im Monat freitags um 19:30 Uhr gibt es das Angebot im neuen Gemeindesaal der Bugenhagenkirche Nettelnburg über den Beamer einen Film anzusehen. Und das Tollste ist – Du kannst selber mitbestimmen\, welcher Film gezeigt wird. \n\n\n\nMichaela Ahrens \n\n\n\n\n\n\n\nDiesmal wird der Film: Stille Nacht – Eine wahre Weihnachtsgeschichte (2017) gezeigt!1817 wird der junge katholische Priester Joseph Mohr nach Oberndorf bei Salzburg berufen. Er sieht die Not der Menschen vor Ort und will ihnen Hoffnung bringen. Kirche\, wie er sie sich vorstellt\, soll den Menschen nahe sein. Zusammen mit dem Organisten Franz Gruber gründet er einen Kirchenchor\, der nicht nur auf Latein\, sondern auch auf Deutsch singen soll. Für seinen konservativen Vorgesetzten Pfarrer Nöstler eine Schande. Als Mohr dann auch noch eine Frau aus der Taverne im Chor singen lässt\, steht sein Posten auf dem Spiel. Die wahre Geschichte zu einem der bekanntesten Weihnachtslieder\, das 2018 sein 200-Jahr-Jubiläum gefeiert hat.  Und so verwandelt sich an Heiligabend 1818 ein von ihm geschriebenes Gedicht in das bekannteste Weihnachtslied aller Zeiten. \n\n\n\nTrailer auf Youtube
URL:https://www.kirche-nettelnburg.de/event/filmabend-2/
CATEGORIES:Gemeindesaal
ATTACH;FMTTYPE=image/png:https://www.kirche-nettelnburg.de/wp-content/uploads/2023/02/Film-kino.png
END:VEVENT
BEGIN:VEVENT
DTSTART;TZID=Europe/Berlin:20251213T140000
DTEND;TZID=Europe/Berlin:20251213T170000
DTSTAMP:20260419T154017
CREATED:20250626T204507Z
LAST-MODIFIED:20250626T205402Z
UID:6296-1765634400-1765645200@www.kirche-nettelnburg.de
SUMMARY:Bibelentdeckertag (5-12 Jahre)
DESCRIPTION:Anmeldung Bibelentdeckertag 13.12.2025\nAnmeldung Bibelentdeckertag 13.12.2025\n\n\n\n\n\n\n\n	Vorname des Kindes\n		*\n	\n	\n	Vorname\n	\n\n\n	Nachname des Kindes\n		*\n	\n	\n	Nachname\n	\n\n\n	Geburtsdatum des Kindes\n		\n	\n	\n	\n	\n\n\n	Besondere Krankheiten\, Allergien\, Unverträglichkeiten oder Vegetarier\n		*\n	\n	\n	\n	\n\n\n	Während des Tages sind wir zu erreichen unter:\n		\n	\n	\n	\n	\n\n\n	Hiermit gebe ich die Erlaubnis\, dass Fotos vom Bibelentdeckertag  mit meinem Kind (ohne Namen) -schutzwürdige Interessen werden beachtet-im Gemeindehaus ausgehängt werden\n		\n	\n						\n			 Ja\n					\n			 Nein\n\n	\n	\n\n\n	Mein Kind geht alleine nach Hause.\n		\n	\n	\n	\n	\n\n\n	Ich möchte die Infomail über Angebote für Kinder und Familien von der Bugenhagenkirchengemeinde Nettelnburg erhalten.\n		\n	\n						\n			 Ja\n					\n			 Nein\n\n	\n	\n\n\n	Wenn Ja\, dann bitte die Email-Adresse eintragen.\n		\n	\n	\n	\n	\n\n\n	\n\nSenden\n\n\n\n	\n			\n			\n				Falls Du menschlich bist\, lasse dieses Feld leer.
URL:https://www.kirche-nettelnburg.de/event/bibelentdeckertag-5-12-jahre/
CATEGORIES:Kinder Veranstaltung
ATTACH;FMTTYPE=image/png:https://www.kirche-nettelnburg.de/wp-content/uploads/2025/06/grafik-1.png
END:VEVENT
BEGIN:VEVENT
DTSTART;TZID=Europe/Berlin:20251214T150000
DTEND;TZID=Europe/Berlin:20251214T150000
DTSTAMP:20260419T154017
CREATED:20251127T155641Z
LAST-MODIFIED:20251207T141946Z
UID:6874-1765724400-1765724400@www.kirche-nettelnburg.de
SUMMARY:Gottesdienst mit Kinderchor (Daniel Perner)
DESCRIPTION:Gottesdienst mit dem Kinderchor und dem Chor New Pepper Sheep mit Daniel Perner
URL:https://www.kirche-nettelnburg.de/event/gottesdienst-mit-kinderchor-daniel-perner/
ATTACH;FMTTYPE=image/jpeg:https://www.kirche-nettelnburg.de/wp-content/uploads/2021/10/Gottesdienst-mit-KiGo.jpg
END:VEVENT
BEGIN:VEVENT
DTSTART;TZID=Europe/Berlin:20251214T150000
DTEND;TZID=Europe/Berlin:20251214T170000
DTSTAMP:20260419T154017
CREATED:20251009T191802Z
LAST-MODIFIED:20251009T191805Z
UID:6596-1765724400-1765731600@www.kirche-nettelnburg.de
SUMMARY:Seniorenkreis "Feierabend": Gottesdienst am Dritten Advent mit Adventsfeier im Anschluss
DESCRIPTION:Wir beginnen um 15 Uhr mit einem fröhlichen Gottesdienst in der Kirche\, danach laden wir zu Kaffee und Kuchen und buntem Programm in den Gemeindesaal ein. \n\n\n\nBitte melden Sie sich bis zum 08.12.2025 bei uns an: \n\n\n\nCarola Jürs (0 40 – 735 54 24) / Monica Burmeister (0 40 – 735 44 47) \n\n\n\nWird ein Fahrdienst gewünscht\, bitte unbedingt Adresse und Telefonnummer angeben!! \n\n\n\nWir freuen uns auf viele Gäste! \n\n\n\nDas Team des Feierabendkreises: Monica Burmeister und Carola Jürs
URL:https://www.kirche-nettelnburg.de/event/seniorenkreis-feierabend-gottesdienst-am-dritten-advent-mit-adventsfeier-im-anschluss/
CATEGORIES:Gemeindesaal,Senioren Veranstaltung
ATTACH;FMTTYPE=image/jpeg:https://www.kirche-nettelnburg.de/wp-content/uploads/2022/06/Seniorenkreis-„Feierabend-scaled.jpg
END:VEVENT
BEGIN:VEVENT
DTSTART;TZID=Europe/Berlin:20251218T160000
DTEND;TZID=Europe/Berlin:20251218T173000
DTSTAMP:20260419T154017
CREATED:20251009T200944Z
LAST-MODIFIED:20251009T200946Z
UID:6631-1766073600-1766079000@www.kirche-nettelnburg.de
SUMMARY:Kinderkino & Elterncafé
DESCRIPTION:Liebe Familien! \n\n\n\nHerzliche Einladung zum Kinderkino mit parallelem Eltern-Café. Beide Veranstaltungen sind ein Highlight für sich. \n\n\n\nWährend im Gemeindesaal eine riesige Leinwand und dicker Sound auf die Kinder warten\, erwarten euch Eltern im Café Heißgetränke wie Cappuccino oder Tee.
URL:https://www.kirche-nettelnburg.de/event/kinderkino-elterncafe-3/
CATEGORIES:Familien Veranstaltung,Gemeindesaal,Jugend Veranstaltung,Kinder Veranstaltung
ATTACH;FMTTYPE=image/png:https://www.kirche-nettelnburg.de/wp-content/uploads/2025/10/Bildschirmfoto-2025-10-09-um-22.05.06.png
END:VEVENT
BEGIN:VEVENT
DTSTART;TZID=Europe/Berlin:20251221T000000
DTEND;TZID=Europe/Berlin:20251221T235959
DTSTAMP:20260419T154017
CREATED:20251009T194308Z
LAST-MODIFIED:20251009T194309Z
UID:6614-1766275200-1766361599@www.kirche-nettelnburg.de
SUMMARY:Bücherstube
DESCRIPTION:Kaum ist der Sommer zu Ende\, sieht man wieder überall Kalender. Eine besonders schöne Auswahl gibt es in der Bücherstube. Kommen Sie gern vorbei und wählen Sie Ihre Kalender für 2026 aus. Für die Adventszeit können Sie bei uns auch wieder den „Anderen Advent“ bestellen. \n\n\n\n Von Oktober bis Dezember sind wir an folgenden Sonntagen für Sie da: \n\n\n\n\n12.10.\n\n\n\n26.10.\n\n\n\n09.11.\n\n\n\n23.11.\n\n\n\n30.11.\n\n\n\n07.12.\n\n\n\n21.12.\n\n\n\n\nAußerdem finden Sie uns beim Weihnachtsmarkt am Samstag\, den 6. Dezember im Gemeindesaal. \n\n\n\nEs freuen sich auf Sie: \n\n\n\nHeidi Beckmann & Cornelia von Gottberg
URL:https://www.kirche-nettelnburg.de/event/buecherstube-11/
CATEGORIES:Gemeindesaal
ATTACH;FMTTYPE=image/png:https://www.kirche-nettelnburg.de/wp-content/uploads/2021/03/book-2022464_640.png
END:VEVENT
BEGIN:VEVENT
DTSTART;TZID=Europe/Berlin:20251221T100000
DTEND;TZID=Europe/Berlin:20251221T100000
DTSTAMP:20260419T154017
CREATED:20251006T184338Z
LAST-MODIFIED:20251006T184339Z
UID:6550-1766311200-1766311200@www.kirche-nettelnburg.de
SUMMARY:Gottesdienst mit Abendmahl (Pastor Hartmut Sölter)
DESCRIPTION:
URL:https://www.kirche-nettelnburg.de/event/gottesdienst-mit-abendmahl-pastor-hartmut-soelter/
CATEGORIES:Gottesdienste
ATTACH;FMTTYPE=image/jpeg:https://www.kirche-nettelnburg.de/wp-content/uploads/2021/10/Gottesdienst-mit-Abendmahl.jpg
END:VEVENT
BEGIN:VEVENT
DTSTART;TZID=Europe/Berlin:20251222T153000
DTEND;TZID=Europe/Berlin:20251222T173000
DTSTAMP:20260419T154017
CREATED:20250707T145238Z
LAST-MODIFIED:20250707T145240Z
UID:6318-1766417400-1766424600@www.kirche-nettelnburg.de
SUMMARY:Kekse backen im Advent (4-12 Jahre)
DESCRIPTION:Mitbringen: eine Keksdose für die fertigen Kekse\, ein Nudelholz und evtl. eine Schürze. Bitte melden Sie ihr Kind an: \n\n\n\n\n\n\nKeksebacken im Advent\n\n\n\n\n\n\n\n\n	Vorname des Kindes\n		*\n	\n	\n	Vorname\n	\n\n\n	Nachname des Kindes\n		*\n	\n	\n	Nachname\n	\n\n\n	Geburtsdatum des Kindes\n		\n	\n	\n	\n	\n\n\n	Besondere Krankheiten\, Allergien\, Unverträglichkeiten oder Vegetarier\n		*\n	\n	\n	\n	\n\n\n	Während des Tages sind wir zu erreichen unter:\n		\n	\n	\n	\n	\n\n\n	Mein Kind geht alleine nach Hause.\n		\n	\n	\n	\n	\n\n\n	Ich möchte die Infomail über Angebote für Kinder und Familien von der Bugenhagenkirchengemeinde Nettelnburg erhalten.\n		\n	\n						\n			 Ja\n					\n			 Nein\n\n	\n	\n\n\n	Wenn Ja\, dann bitte die Email-Adresse eintragen.\n		\n	\n	\n	\n	\n\n\n	\n\nSenden\n\n\n\n	\n			\n			\n				Falls Du menschlich bist\, lasse dieses Feld leer.
URL:https://www.kirche-nettelnburg.de/event/kekse-backen-im-advent-4-12-jahre/
CATEGORIES:Kinder Veranstaltung
ATTACH;FMTTYPE=image/png:https://www.kirche-nettelnburg.de/wp-content/uploads/2025/07/grafik.png
END:VEVENT
BEGIN:VEVENT
DTSTART;TZID=Europe/Berlin:20251223T190000
DTEND;TZID=Europe/Berlin:20251223T190000
DTSTAMP:20260419T154017
CREATED:20251006T184744Z
LAST-MODIFIED:20251006T184745Z
UID:6552-1766516400-1766516400@www.kirche-nettelnburg.de
SUMMARY:Sing and pray
DESCRIPTION:Dieses Jahr gestaltet von Christina und Heiko Hannemann & Team
URL:https://www.kirche-nettelnburg.de/event/sing-and-pray-4/
CATEGORIES:Gottesdienste,Musik Veranstaltung
ATTACH;FMTTYPE=image/jpeg:https://www.kirche-nettelnburg.de/wp-content/uploads/2023/09/Musik-Note-Sing-and-Pray.jpg
END:VEVENT
BEGIN:VEVENT
DTSTART;TZID=Europe/Berlin:20251224T140000
DTEND;TZID=Europe/Berlin:20251224T140000
DTSTAMP:20260419T154017
CREATED:20251006T185025Z
LAST-MODIFIED:20251127T153320Z
UID:6554-1766584800-1766584800@www.kirche-nettelnburg.de
SUMMARY:Familiengottesdienst (Pastorin Gwen Bryde)
DESCRIPTION:Hinweis: Ohne Kinderchor
URL:https://www.kirche-nettelnburg.de/event/familiengottesdienst-mit-mitmachen-krippensiel-pastorin-gwen-bryde/
CATEGORIES:Familien Veranstaltung,Gottesdienste,Jugend Veranstaltung,Kinder Veranstaltung
ATTACH;FMTTYPE=image/jpeg:https://www.kirche-nettelnburg.de/wp-content/uploads/2021/10/Gottesdienst.jpg
END:VEVENT
BEGIN:VEVENT
DTSTART;TZID=Europe/Berlin:20251224T153000
DTEND;TZID=Europe/Berlin:20251224T153000
DTSTAMP:20260419T154017
CREATED:20251006T185259Z
LAST-MODIFIED:20251204T121706Z
UID:6556-1766590200-1766590200@www.kirche-nettelnburg.de
SUMMARY:Krippenspiel Kinderchor - Familiengottesdienst mit  (Daniel Perner)
DESCRIPTION:Krippenspiel des Kinderchores als Familiengottesdienst \n\n\n\nGemeindepädagoge Daniel Perner
URL:https://www.kirche-nettelnburg.de/event/familiengottesdienst-mit-krippenspiel-daniel-perner/
CATEGORIES:Familien Veranstaltung,Gottesdienste,Jugend Veranstaltung,Kinder Veranstaltung
ATTACH;FMTTYPE=image/jpeg:https://www.kirche-nettelnburg.de/wp-content/uploads/2021/10/Gottesdienst.jpg
END:VEVENT
BEGIN:VEVENT
DTSTART;TZID=Europe/Berlin:20251224T170000
DTEND;TZID=Europe/Berlin:20251224T170000
DTSTAMP:20260419T154017
CREATED:20251006T185521Z
LAST-MODIFIED:20251006T185523Z
UID:6558-1766595600-1766595600@www.kirche-nettelnburg.de
SUMMARY:Christvesper mit Chor (Daniel Perner)
DESCRIPTION:
URL:https://www.kirche-nettelnburg.de/event/christvesper-mit-chor-daniel-perner/
CATEGORIES:Gottesdienste
ATTACH;FMTTYPE=image/png:https://www.kirche-nettelnburg.de/wp-content/uploads/2022/12/Weihnachten-Kugel.png
END:VEVENT
BEGIN:VEVENT
DTSTART;TZID=Europe/Berlin:20251225T100000
DTEND;TZID=Europe/Berlin:20251225T100000
DTSTAMP:20260419T154017
CREATED:20251006T185729Z
LAST-MODIFIED:20251222T190355Z
UID:6560-1766656800-1766656800@www.kirche-nettelnburg.de
SUMMARY:Gottesdienst (Pastorin Gwen Bryde)
DESCRIPTION:Stille Weihnacht. Gottesdienst wenn du traurig bist.
URL:https://www.kirche-nettelnburg.de/event/gottesdienst-pastorin-gwen-bryde-2/
CATEGORIES:Gottesdienste
ATTACH;FMTTYPE=image/jpeg:https://www.kirche-nettelnburg.de/wp-content/uploads/2021/10/Gottesdienst.jpg
END:VEVENT
BEGIN:VEVENT
DTSTART;TZID=Europe/Berlin:20251226T100000
DTEND;TZID=Europe/Berlin:20251226T100000
DTSTAMP:20260419T154017
CREATED:20251006T185953Z
LAST-MODIFIED:20251006T185955Z
UID:6562-1766743200-1766743200@www.kirche-nettelnburg.de
SUMMARY:Weihnachtslieder singen
DESCRIPTION:mit Christina Mannemann und Petra Klampe
URL:https://www.kirche-nettelnburg.de/event/weihnachtslieder-singen/
CATEGORIES:Musik Veranstaltung
ATTACH;FMTTYPE=image/png:https://www.kirche-nettelnburg.de/wp-content/uploads/2022/12/Weihnachten-Kugel.png
END:VEVENT
BEGIN:VEVENT
DTSTART;TZID=Europe/Berlin:20251228T100000
DTEND;TZID=Europe/Berlin:20251228T100000
DTSTAMP:20260419T154017
CREATED:20251009T202119Z
LAST-MODIFIED:20251009T202121Z
UID:6639-1766916000-1766916000@www.kirche-nettelnburg.de
SUMMARY:Andacht (Matthew Wellmann)
DESCRIPTION:
URL:https://www.kirche-nettelnburg.de/event/andacht-matthew-wellmann/
CATEGORIES:Gottesdienste
ATTACH;FMTTYPE=image/jpeg:https://www.kirche-nettelnburg.de/wp-content/uploads/2021/10/Gottesdienst.jpg
END:VEVENT
BEGIN:VEVENT
DTSTART;TZID=Europe/Berlin:20251231T170000
DTEND;TZID=Europe/Berlin:20251231T170000
DTSTAMP:20260419T154017
CREATED:20251009T202317Z
LAST-MODIFIED:20251009T202319Z
UID:6641-1767200400-1767200400@www.kirche-nettelnburg.de
SUMMARY:Jahresabend-Gottesdienst (Pastorin Gwen Bryde)
DESCRIPTION:
URL:https://www.kirche-nettelnburg.de/event/jahresabend-gottesdienst-pastorin-gwen-bryde/
CATEGORIES:Gottesdienste
ATTACH;FMTTYPE=image/jpeg:https://www.kirche-nettelnburg.de/wp-content/uploads/2021/10/Gottesdienst.jpg
END:VEVENT
END:VCALENDAR