BEGIN:VCALENDAR
VERSION:2.0
PRODID:-//Evangelisch – lutherische Bugenhagen-Kirchengemeinde Nettelnburg - ECPv6.15.20//NONSGML v1.0//EN
CALSCALE:GREGORIAN
METHOD:PUBLISH
X-ORIGINAL-URL:https://www.kirche-nettelnburg.de
X-WR-CALDESC:Veranstaltungen für Evangelisch – lutherische Bugenhagen-Kirchengemeinde Nettelnburg
REFRESH-INTERVAL;VALUE=DURATION:PT1H
X-Robots-Tag:noindex
X-PUBLISHED-TTL:PT1H
BEGIN:VTIMEZONE
TZID:Europe/Berlin
BEGIN:DAYLIGHT
TZOFFSETFROM:+0100
TZOFFSETTO:+0200
TZNAME:CEST
DTSTART:20250330T010000
END:DAYLIGHT
BEGIN:STANDARD
TZOFFSETFROM:+0200
TZOFFSETTO:+0100
TZNAME:CET
DTSTART:20251026T010000
END:STANDARD
BEGIN:DAYLIGHT
TZOFFSETFROM:+0100
TZOFFSETTO:+0200
TZNAME:CEST
DTSTART:20260329T010000
END:DAYLIGHT
BEGIN:STANDARD
TZOFFSETFROM:+0200
TZOFFSETTO:+0100
TZNAME:CET
DTSTART:20261025T010000
END:STANDARD
BEGIN:DAYLIGHT
TZOFFSETFROM:+0100
TZOFFSETTO:+0200
TZNAME:CEST
DTSTART:20270328T010000
END:DAYLIGHT
BEGIN:STANDARD
TZOFFSETFROM:+0200
TZOFFSETTO:+0100
TZNAME:CET
DTSTART:20271031T010000
END:STANDARD
END:VTIMEZONE
BEGIN:VEVENT
DTSTART;TZID=Europe/Berlin:20260530T140000
DTEND;TZID=Europe/Berlin:20260530T180000
DTSTAMP:20260419T140154
CREATED:20260210T113125Z
LAST-MODIFIED:20260210T113453Z
UID:7227-1780149600-1780164000@www.kirche-nettelnburg.de
SUMMARY:Sommerfest - Nettelnburg
DESCRIPTION:Save the Date: Moin! Wer kann\, ist ganz herzlich zum helfen willkommen! Gerne auch Daniel\, Michaela oder mich mit eigenen Ideen ansprechen für Aktivitäten oder Verpflegung. Die Arge\, FF Nettelnburg und voraussichtlich der SVNA werden uns auch unterstützen mit tollen Angeboten. Also bitte tragt es euch ein und seid gern kreativ ❤️
URL:https://www.kirche-nettelnburg.de/event/sommerfest-nettelnburg/
ATTACH;FMTTYPE=image/jpeg:https://www.kirche-nettelnburg.de/wp-content/uploads/2026/02/sommerfest.jpg
END:VEVENT
END:VCALENDAR