BEGIN:VCALENDAR
VERSION:2.0
PRODID:-//Evangelisch – lutherische Bugenhagen-Kirchengemeinde Nettelnburg - ECPv6.15.20//NONSGML v1.0//EN
CALSCALE:GREGORIAN
METHOD:PUBLISH
X-WR-CALNAME:Evangelisch – lutherische Bugenhagen-Kirchengemeinde Nettelnburg
X-ORIGINAL-URL:https://www.kirche-nettelnburg.de
X-WR-CALDESC:Veranstaltungen für Evangelisch – lutherische Bugenhagen-Kirchengemeinde Nettelnburg
REFRESH-INTERVAL;VALUE=DURATION:PT1H
X-Robots-Tag:noindex
X-PUBLISHED-TTL:PT1H
BEGIN:VTIMEZONE
TZID:Europe/Berlin
BEGIN:DAYLIGHT
TZOFFSETFROM:+0100
TZOFFSETTO:+0200
TZNAME:CEST
DTSTART:20250330T010000
END:DAYLIGHT
BEGIN:STANDARD
TZOFFSETFROM:+0200
TZOFFSETTO:+0100
TZNAME:CET
DTSTART:20251026T010000
END:STANDARD
BEGIN:DAYLIGHT
TZOFFSETFROM:+0100
TZOFFSETTO:+0200
TZNAME:CEST
DTSTART:20260329T010000
END:DAYLIGHT
BEGIN:STANDARD
TZOFFSETFROM:+0200
TZOFFSETTO:+0100
TZNAME:CET
DTSTART:20261025T010000
END:STANDARD
BEGIN:DAYLIGHT
TZOFFSETFROM:+0100
TZOFFSETTO:+0200
TZNAME:CEST
DTSTART:20270328T010000
END:DAYLIGHT
BEGIN:STANDARD
TZOFFSETFROM:+0200
TZOFFSETTO:+0100
TZNAME:CET
DTSTART:20271031T010000
END:STANDARD
END:VTIMEZONE
BEGIN:VEVENT
DTSTART;TZID=Europe/Berlin:20260713T000000
DTEND;TZID=Europe/Berlin:20260717T235959
DTSTAMP:20260419T170237
CREATED:20250619T210604Z
LAST-MODIFIED:20260410T192743Z
UID:6290-1783900800-1784332799@www.kirche-nettelnburg.de
SUMMARY:Kinder Sommerfreizeit in die Wingst (5-12 Jahre)
DESCRIPTION:Hinweis – Ausgebucht – Warteliste ist möglich. \n\n\n\nDas Freizeitheim: Großer Speiseraum\, Mehrzweckhalle (Fußball\, Tischtennis\, Kicker\, etc.) und Werkraum \n\n\n\nAußengelände: Großes Waldgrundstück\, Kinderspielplatz\, Sportaktivitäten\, Fußball\, Basketball\, Tischtennis\, Grillplatz \n\n\n\nProgramm: Zum festen Bestandteil der Freizeit gehört das Bibelprogramm\, bei dem wir singen\, Geschichten hören und erleben\, spielen\, rätseln\, basteln und Geländespiele machen. \n\n\n\nNachmittags finden Aktionen (Geländespiele etc. oder Programm zum Wählen) statt. Zur Freizeit gehört ebenfalls die Mithilfe bei den “Diensten”\, wie z.B. beim Tischdienst. \n\n\n\nVerpflegung: Vollpension mit 4 Mahlzeiten vom Haus \n\n\n\nIn dem Preis eingeschlossen sind Unterkunft und Verpflegung\, Gepäcktransport\, Programm und Material. Wir setzen eine Deutschlandcard als Fahrkarte voraus. Falls diese nicht vorhanden ist müssten sie eine Fahrkarte für die Hin und Rückfahrt erwerben. \n\n\n\nWoSchullandheim der Abendrothschule in der Wingst. Wassermühle 48\, 21789 WingstWannJuli – 17.Juli 2026 (Mo-Fr). Kofferabgabe 12.Juli 17.00-17.30 Uhr.Wer darf mitfahren?Das Freizeitangebot gilt für alle 5–12- Jährigen.Wie viel soll der Spaß kosten?Die Freizeitkosten belaufen sich auf 220\, – €.Wie melde ich mich an?Über das Anmeldeformular; siehe unten.\n\n\n\nLagerfeuer mit Stockbrot\n\n\n\n \n\n\n\nDie Organisation und die Kosten einer vorzeitigen Rückfahrt z.B. wegen Krankheit\, Heimweh oder aus Disziplinargründen gehen zu Lasten der Erziehungsberechtigten. Die Anmeldung ist gültig nach Empfang der Anmeldebestätigung\, die Ihnen zugeschickt wird. Vor der Freizeit erhalten sie eine Rechnung.  \n\n\n\nDie Freizeitkosten belaufen sich auf 220\,- €.
URL:https://www.kirche-nettelnburg.de/event/kinderfreizeit2026/
CATEGORIES:Kinder Veranstaltung
ATTACH;FMTTYPE=image/jpeg:https://www.kirche-nettelnburg.de/wp-content/uploads/2024/09/P7241418-scaled.jpg
END:VEVENT
END:VCALENDAR