BEGIN:VCALENDAR
VERSION:2.0
PRODID:-//Evangelisch – lutherische Bugenhagen-Kirchengemeinde Nettelnburg - ECPv6.15.20//NONSGML v1.0//EN
CALSCALE:GREGORIAN
METHOD:PUBLISH
X-WR-CALNAME:Evangelisch – lutherische Bugenhagen-Kirchengemeinde Nettelnburg
X-ORIGINAL-URL:https://www.kirche-nettelnburg.de
X-WR-CALDESC:Veranstaltungen für Evangelisch – lutherische Bugenhagen-Kirchengemeinde Nettelnburg
REFRESH-INTERVAL;VALUE=DURATION:PT1H
X-Robots-Tag:noindex
X-PUBLISHED-TTL:PT1H
BEGIN:VTIMEZONE
TZID:Europe/Berlin
BEGIN:DAYLIGHT
TZOFFSETFROM:+0100
TZOFFSETTO:+0200
TZNAME:CEST
DTSTART:20250330T010000
END:DAYLIGHT
BEGIN:STANDARD
TZOFFSETFROM:+0200
TZOFFSETTO:+0100
TZNAME:CET
DTSTART:20251026T010000
END:STANDARD
BEGIN:DAYLIGHT
TZOFFSETFROM:+0100
TZOFFSETTO:+0200
TZNAME:CEST
DTSTART:20260329T010000
END:DAYLIGHT
BEGIN:STANDARD
TZOFFSETFROM:+0200
TZOFFSETTO:+0100
TZNAME:CET
DTSTART:20261025T010000
END:STANDARD
BEGIN:DAYLIGHT
TZOFFSETFROM:+0100
TZOFFSETTO:+0200
TZNAME:CEST
DTSTART:20270328T010000
END:DAYLIGHT
BEGIN:STANDARD
TZOFFSETFROM:+0200
TZOFFSETTO:+0100
TZNAME:CET
DTSTART:20271031T010000
END:STANDARD
END:VTIMEZONE
BEGIN:VEVENT
DTSTART;TZID=Europe/Berlin:20260122T190000
DTEND;TZID=Europe/Berlin:20260122T190000
DTSTAMP:20260422T140724
CREATED:20250717T151936Z
LAST-MODIFIED:20250717T151938Z
UID:6377-1769108400-1769108400@www.kirche-nettelnburg.de
SUMMARY:Bibelabend
DESCRIPTION:Wir laden ein zu einem Bibelabend\, der am Donners­tag\, dem 22. Januar\, im Gemeindehaus angeboten wird. Wir beginnen um 19 Uhr mit einer offenen Eingangspha­se und der Möglichkeit zum Gespräch miteinander. Um 19:30 Uhr steigen wir dann in das Thema ein. Als Referent eingeladen ist diesmal Pastor Paul Philipps. \n\n\n\nMartin Reesch
URL:https://www.kirche-nettelnburg.de/event/bibelabend-3/
CATEGORIES:Gemeindesaal
ATTACH;FMTTYPE=image/png:https://www.kirche-nettelnburg.de/wp-content/uploads/2024/12/Bibel-Gottesdienst-Lektionar.png
END:VEVENT
END:VCALENDAR