BEGIN:VCALENDAR
VERSION:2.0
PRODID:-//Evangelisch – lutherische Bugenhagen-Kirchengemeinde Nettelnburg - ECPv6.15.20//NONSGML v1.0//EN
CALSCALE:GREGORIAN
METHOD:PUBLISH
X-ORIGINAL-URL:https://www.kirche-nettelnburg.de
X-WR-CALDESC:Veranstaltungen für Evangelisch – lutherische Bugenhagen-Kirchengemeinde Nettelnburg
REFRESH-INTERVAL;VALUE=DURATION:PT1H
X-Robots-Tag:noindex
X-PUBLISHED-TTL:PT1H
BEGIN:VTIMEZONE
TZID:Europe/Berlin
BEGIN:DAYLIGHT
TZOFFSETFROM:+0100
TZOFFSETTO:+0200
TZNAME:CEST
DTSTART:20250330T010000
END:DAYLIGHT
BEGIN:STANDARD
TZOFFSETFROM:+0200
TZOFFSETTO:+0100
TZNAME:CET
DTSTART:20251026T010000
END:STANDARD
BEGIN:DAYLIGHT
TZOFFSETFROM:+0100
TZOFFSETTO:+0200
TZNAME:CEST
DTSTART:20260329T010000
END:DAYLIGHT
BEGIN:STANDARD
TZOFFSETFROM:+0200
TZOFFSETTO:+0100
TZNAME:CET
DTSTART:20261025T010000
END:STANDARD
BEGIN:DAYLIGHT
TZOFFSETFROM:+0100
TZOFFSETTO:+0200
TZNAME:CEST
DTSTART:20270328T010000
END:DAYLIGHT
BEGIN:STANDARD
TZOFFSETFROM:+0200
TZOFFSETTO:+0100
TZNAME:CET
DTSTART:20271031T010000
END:STANDARD
END:VTIMEZONE
BEGIN:VEVENT
DTSTART;TZID=Europe/Berlin:20260911T000000
DTEND;TZID=Europe/Berlin:20260913T235959
DTSTAMP:20260421T195624
CREATED:20260213T155755Z
LAST-MODIFIED:20260213T162306Z
UID:7245-1789084800-1789343999@www.kirche-nettelnburg.de
SUMMARY:Herbstfreizeit 2026
DESCRIPTION:…Kirche mal anders… \n\n\n\nDer Termin für unsere Herbstfreizeit steht fest – wir freuen uns auf euch!  \n\n\n\nHerzliches Moin an alle\, \n\n\n\nunsere Herbstfreizeit findet in diesem Jahr vom 11. bis 13. September 2026 statt! \n\n\n\nEine Wochenende voller gemeinsamer Erlebnisse\, Natur\, Spiel\, Kreativität und ganz viel Gemeinschaft wartet auf uns. Die Herbstfreizeit ist seit nun schon 2\,5 Jahren ein fester Bestandteil unserer Gemeinde. \n\n\n\nJetzt anmelden!\n\n\n\nDie Anmeldungen sind ab sofort möglich.Da die Plätze erfahrungsgemäß schnell vergeben sind\, empfehlen wir eine frühzeitige Anmeldung.                                                                       Anmeldung unter: anmeldung@kirche-nettelnburg.de \n\n\n\nDieses Jahr geht es nach Lankau. Das „Haus Lankau“ liegt am Ende eines Gemeindeweges direkt am Waldrand. Das Grundstück grenzt an den Elbe-Lübeck-Kanal\, auf dem man paddeln und rudern kann. Der Lankauer See\, ein Badesee\, ist zehn Minuten zu Fuß entfernt. \n\n\n\nDie Anreise erfolgt mit privaten PKWs. \n\n\n\nBei Fragen stehen wir selbstverständlich gerne zur Verfügung. \n\n\n\nHerzliche GrüßeEuer Freizeit-Team  Daniel\, Carola\, Sebastian\, Kirsten\, Stefanie und Jenni  \n\n\n\nSchullandheim Haus Lankau
URL:https://www.kirche-nettelnburg.de/event/herbstfreizeit-2026/
CATEGORIES:Erwachsenen Veranstaltung,Familien Veranstaltung
ATTACH;FMTTYPE=image/jpeg:https://www.kirche-nettelnburg.de/wp-content/uploads/2026/02/PHOTO-2026-02-11-06-02-45.jpg
END:VEVENT
END:VCALENDAR