BEGIN:VCALENDAR
VERSION:2.0
PRODID:-//Evangelisch – lutherische Bugenhagen-Kirchengemeinde Nettelnburg - ECPv6.15.20//NONSGML v1.0//EN
CALSCALE:GREGORIAN
METHOD:PUBLISH
X-WR-CALNAME:Evangelisch – lutherische Bugenhagen-Kirchengemeinde Nettelnburg
X-ORIGINAL-URL:https://www.kirche-nettelnburg.de
X-WR-CALDESC:Veranstaltungen für Evangelisch – lutherische Bugenhagen-Kirchengemeinde Nettelnburg
REFRESH-INTERVAL;VALUE=DURATION:PT1H
X-Robots-Tag:noindex
X-PUBLISHED-TTL:PT1H
BEGIN:VTIMEZONE
TZID:Europe/Berlin
BEGIN:DAYLIGHT
TZOFFSETFROM:+0100
TZOFFSETTO:+0200
TZNAME:CEST
DTSTART:20250330T010000
END:DAYLIGHT
BEGIN:STANDARD
TZOFFSETFROM:+0200
TZOFFSETTO:+0100
TZNAME:CET
DTSTART:20251026T010000
END:STANDARD
BEGIN:DAYLIGHT
TZOFFSETFROM:+0100
TZOFFSETTO:+0200
TZNAME:CEST
DTSTART:20260329T010000
END:DAYLIGHT
BEGIN:STANDARD
TZOFFSETFROM:+0200
TZOFFSETTO:+0100
TZNAME:CET
DTSTART:20261025T010000
END:STANDARD
BEGIN:DAYLIGHT
TZOFFSETFROM:+0100
TZOFFSETTO:+0200
TZNAME:CEST
DTSTART:20270328T010000
END:DAYLIGHT
BEGIN:STANDARD
TZOFFSETFROM:+0200
TZOFFSETTO:+0100
TZNAME:CET
DTSTART:20271031T010000
END:STANDARD
END:VTIMEZONE
BEGIN:VEVENT
DTSTART;TZID=Europe/Berlin:20260201T100000
DTEND;TZID=Europe/Berlin:20260201T123000
DTSTAMP:20260422T123830
CREATED:20251013T192908Z
LAST-MODIFIED:20251013T193055Z
UID:6718-1769940000-1769949000@www.kirche-nettelnburg.de
SUMMARY:Kirche Kunterbunt - Gottesdienst (Daniel Perner)
DESCRIPTION:Gottesdienst für die ganze Familie  \n\n\n\nGemeindepädagoge Daniel Perner & Team
URL:https://www.kirche-nettelnburg.de/event/kirche-kunterbunt-gottesdienst-daniel-perner-2/
CATEGORIES:Familien Veranstaltung,Gottesdienste,Jugend Veranstaltung,Kinder Veranstaltung
ATTACH;FMTTYPE=image/png:https://www.kirche-nettelnburg.de/wp-content/uploads/2024/02/Kirche-Kunterbunt-Logo.png
END:VEVENT
BEGIN:VEVENT
DTSTART;TZID=Europe/Berlin:20260208T100000
DTEND;TZID=Europe/Berlin:20260208T120000
DTSTAMP:20260422T123830
CREATED:20260131T202548Z
LAST-MODIFIED:20260207T163155Z
UID:7160-1770544800-1770552000@www.kirche-nettelnburg.de
SUMMARY:Gottesdienst und Zukunftsgespräch- Erlöserkirche
DESCRIPTION:In der Erlöserkirche – LohbrüggeGemeinsamer zentraler Gottesdienst unter der Leitung von Prädikantin Dr. Nicole Knaack und Pastorin Ellen Drephal. Beteiligt sind die Kirchengemeinden Petri+Pauli\, Christusgemeinde\, St. Michael und die Bugenhagengemeinde. Gemeinsam loten wir den Weg zu einer gemeinsamen Zukunft aus.Im Anschluss laden die Gemeinden zu einem Austausch mit Keksen und Getränken ein.
URL:https://www.kirche-nettelnburg.de/event/gottesdienst-erloeserkirche/
CATEGORIES:Gottesdienste
ATTACH;FMTTYPE=image/png:https://www.kirche-nettelnburg.de/wp-content/uploads/2024/12/Bibel-Gottesdienst-Lektionar.png
END:VEVENT
BEGIN:VEVENT
DTSTART;TZID=Europe/Berlin:20260215T100000
DTEND;TZID=Europe/Berlin:20260215T110000
DTSTAMP:20260422T123830
CREATED:20260121T172036Z
LAST-MODIFIED:20260210T105729Z
UID:7133-1771149600-1771153200@www.kirche-nettelnburg.de
SUMMARY:Gottesdienstreihe "Familienbande"
DESCRIPTION: Gottesdienstreihe „Familienbande“mit Daniel Perner · Gottesdienst \n\n\n\n \n\n\n\n\n\n\n\nIn fünf Gottesdiensten im Januar – März stehen Familienthemen im Mittelpunkt. Heute geht es um Stress in der Familie.
URL:https://www.kirche-nettelnburg.de/event/gottesdienstreihe-familienbande/
CATEGORIES:Erwachsenen Veranstaltung,Familien Veranstaltung,Gottesdienste
ATTACH;FMTTYPE=image/jpeg:https://www.kirche-nettelnburg.de/wp-content/uploads/2026/01/familienbande.jpg
END:VEVENT
BEGIN:VEVENT
DTSTART;TZID=Europe/Berlin:20260222T100000
DTEND;TZID=Europe/Berlin:20260222T110000
DTSTAMP:20260422T123830
CREATED:20260210T113823Z
LAST-MODIFIED:20260210T114022Z
UID:7234-1771754400-1771758000@www.kirche-nettelnburg.de
SUMMARY:Gottesdienstreihe "Familienbande"
DESCRIPTION:Gottesdienstreihe „Familienbande“ mit Abendmahl (mit Pastorin Gwen Bryde) \n\n\n\n\n\n\n\nIn fünf Gottesdiensten im Januar – März stehen Familienthemen im Mittelpunkt. Heute geht es um Lieblingskinder
URL:https://www.kirche-nettelnburg.de/event/gottesdienstreihe-familienbande-2/
CATEGORIES:Erwachsenen Veranstaltung,Familien Veranstaltung,Gottesdienste,Jugend Veranstaltung
ATTACH;FMTTYPE=image/jpeg:https://www.kirche-nettelnburg.de/wp-content/uploads/2026/01/familienbande.jpg
END:VEVENT
END:VCALENDAR