BEGIN:VCALENDAR
VERSION:2.0
PRODID:-//Evangelisch – lutherische Bugenhagen-Kirchengemeinde Nettelnburg - ECPv6.15.20//NONSGML v1.0//EN
CALSCALE:GREGORIAN
METHOD:PUBLISH
X-WR-CALNAME:Evangelisch – lutherische Bugenhagen-Kirchengemeinde Nettelnburg
X-ORIGINAL-URL:https://www.kirche-nettelnburg.de
X-WR-CALDESC:Veranstaltungen für Evangelisch – lutherische Bugenhagen-Kirchengemeinde Nettelnburg
REFRESH-INTERVAL;VALUE=DURATION:PT1H
X-Robots-Tag:noindex
X-PUBLISHED-TTL:PT1H
BEGIN:VTIMEZONE
TZID:Europe/Berlin
BEGIN:DAYLIGHT
TZOFFSETFROM:+0100
TZOFFSETTO:+0200
TZNAME:CEST
DTSTART:20250330T010000
END:DAYLIGHT
BEGIN:STANDARD
TZOFFSETFROM:+0200
TZOFFSETTO:+0100
TZNAME:CET
DTSTART:20251026T010000
END:STANDARD
BEGIN:DAYLIGHT
TZOFFSETFROM:+0100
TZOFFSETTO:+0200
TZNAME:CEST
DTSTART:20260329T010000
END:DAYLIGHT
BEGIN:STANDARD
TZOFFSETFROM:+0200
TZOFFSETTO:+0100
TZNAME:CET
DTSTART:20261025T010000
END:STANDARD
BEGIN:DAYLIGHT
TZOFFSETFROM:+0100
TZOFFSETTO:+0200
TZNAME:CEST
DTSTART:20270328T010000
END:DAYLIGHT
BEGIN:STANDARD
TZOFFSETFROM:+0200
TZOFFSETTO:+0100
TZNAME:CET
DTSTART:20271031T010000
END:STANDARD
END:VTIMEZONE
BEGIN:VEVENT
DTSTART;TZID=Europe/Berlin:20260108T160000
DTEND;TZID=Europe/Berlin:20260108T200000
DTSTAMP:20260423T124820
CREATED:20251009T212157Z
LAST-MODIFIED:20251009T212229Z
UID:6672-1767888000-1767902400@www.kirche-nettelnburg.de
SUMMARY:Mocktail-Workshop
DESCRIPTION:
URL:https://www.kirche-nettelnburg.de/event/6672/
CATEGORIES:Jugend Veranstaltung
ATTACH;FMTTYPE=image/png:https://www.kirche-nettelnburg.de/wp-content/uploads/2025/10/Bildschirmfoto-2025-10-09-um-23.05.32.png
END:VEVENT
END:VCALENDAR